BEGIN:VCALENDAR
VERSION:2.0
PRODID:-//ChamberMaster//Event Calendar 2.0//EN
METHOD:PUBLISH
X-PUBLISHED-TTL:P3D
REFRESH-INTERVAL:P3D
CALSCALE:GREGORIAN
BEGIN:VEVENT
DTSTART:20230621T160000Z
DTEND:20230621T170000Z
X-MICROSOFT-CDO-ALLDAYEVENT:FALSE
SUMMARY:GovCon 101: Is Your Business Ready for Government Contracting?
DESCRIPTION:Are you considering registering your business to be a government contractor? Do you think government contracting might be a good option to help grow your business? If so\, then join us for GovCon 101. This session will be help you to understand:   Whether government contracting is a good option for your business   If your business is ready to enter the government arena   The process of registering to be a government contractor   Certifications that might benefit your business as a government contractor This event is free\, but you must preregister in order to receive the instructions to attend.
X-ALT-DESC;FMTTYPE=text/html:Are you considering registering your business to be a government contractor? Do you think government contracting might be a good option to help grow your business? If so\, then join us for GovCon 101. This session will be help you to understand: &bull\; Whether government contracting is a good option for your business &bull\; If your business is ready to enter the government arena &bull\; The process of registering to be a government contractor &bull\; Certifications that might benefit your business as a government contractor This event is free\, but you must preregister in order to receive the instructions to attend.
LOCATION:virtual
UID:e.492.13576
SEQUENCE:3
DTSTAMP:20260422T054417Z
URL:https://members.fredericksburgchamber.org/events/details/govcon-101-is-your-business-ready-for-government-contracting-13576
END:VEVENT

END:VCALENDAR
