BEGIN:VCALENDAR
VERSION:2.0
PRODID:-//ChamberMaster//Event Calendar 2.0//EN
METHOD:PUBLISH
X-PUBLISHED-TTL:P3D
REFRESH-INTERVAL:P3D
CALSCALE:GREGORIAN
BEGIN:VEVENT
DTSTART:20231213T170000Z
DTEND:20231213T180000Z
X-MICROSOFT-CDO-ALLDAYEVENT:FALSE
SUMMARY:GovCon 101: Proposal Development
DESCRIPTION:The Federal Government buys over $600 billion per year on goods and services\, 5% of that spend is allocated for Small Business. In order to be successful in government contracting you must know how to respond to a solicitation with a winning proposal. A properly formatted proposal will help you get noticed and differentiate you from your competition and show you are a responsible and responsive bidder. Key Takeaways: Proper formatting of a proposal How proposals are graded What are some common mistakes in proposal writing
X-ALT-DESC;FMTTYPE=text/html:The Federal Government buys over $600 billion per year on goods and services\, 5% of that spend is allocated for Small Business. In order to be successful in government contracting you must know how to respond to a solicitation with a winning proposal. A properly formatted proposal will help you get noticed and differentiate you from your competition and show you are a responsible and responsive bidder. Key Takeaways: Proper formatting of a proposal How proposals are graded What are some common mistakes in proposal writing
LOCATION:virtual
UID:e.492.13778
SEQUENCE:3
DTSTAMP:20260421T232241Z
URL:https://members.fredericksburgchamber.org/events/details/govcon-101-proposal-development-12-13-2023-13778
END:VEVENT

END:VCALENDAR
