BEGIN:VCALENDAR
VERSION:2.0
PRODID:-//ChamberMaster//Event Calendar 2.0//EN
METHOD:PUBLISH
X-PUBLISHED-TTL:P3D
REFRESH-INTERVAL:P3D
CALSCALE:GREGORIAN
BEGIN:VEVENT
DTSTART:20230315T160000Z
DTEND:20230315T170000Z
X-MICROSOFT-CDO-ALLDAYEVENT:FALSE
SUMMARY:GovCon 101: VOSB/SDVOSB
DESCRIPTION:Navigating the New SBA VOSB/SDVOSB Certification The SBA has recently taken over the certification of VOSB/SDVOSB for set-aside opportunities with the government. This class will walk you through the new application and give you advise on how to properly submit your application. In this class you will learn:   Where to access the portal for application submission   How to manage the required data   What documents will be needed   Eligibility guidelines
X-ALT-DESC;FMTTYPE=text/html:Navigating the New SBA VOSB/SDVOSB Certification The SBA has recently taken over the certification of VOSB/SDVOSB for set-aside opportunities with the government. This class will walk you through the new application and give you advise on how to properly submit your application. In this class you will learn: &bull\; Where to access the portal for application submission &bull\; How to manage the required data &bull\; What documents will be needed &bull\; Eligibility guidelines
LOCATION:Virtual
UID:e.492.13283
SEQUENCE:3
DTSTAMP:20260422T114951Z
URL:https://members.fredericksburgchamber.org/events/details/govcon-101-vosb-sdvosb-13283
END:VEVENT

END:VCALENDAR
