BEGIN:VCALENDAR
VERSION:2.0
PRODID:-//ChamberMaster//Event Calendar 2.0//EN
METHOD:PUBLISH
X-PUBLISHED-TTL:P3D
REFRESH-INTERVAL:P3D
CALSCALE:GREGORIAN
BEGIN:VEVENT
DTSTART:20240221T170000Z
DTEND:20240221T180000Z
X-MICROSOFT-CDO-ALLDAYEVENT:FALSE
SUMMARY:GovCon 101: WOSB
DESCRIPTION:The Federal Government buys over $600 billion per year on goods and services\, 5% of that spend is allocated for Woman Owned and Economically Disadvantaged Woman Owned Businesses (WOSB/EDWOSB). This is a huge opportunity for small woman owned firms\, who qualify\, to grow their business and become part of the challenging world of Government Contracting through set-aside opportunities. In this presentation you will learn:   Eligibility requirements for WOSB/EDWOSB   Understanding the application process   Understanding how to prepare before applying   Staying Certified
X-ALT-DESC;FMTTYPE=text/html:The Federal Government buys over $600 billion per year on goods and services\, 5% of that spend is allocated for Woman Owned and Economically Disadvantaged Woman Owned Businesses (WOSB/EDWOSB). This is a huge opportunity for small woman owned firms\, who qualify\, to grow their business and become part of the challenging world of Government Contracting through set-aside opportunities. In this presentation you will learn: &bull\; Eligibility requirements for WOSB/EDWOSB &bull\; Understanding the application process &bull\; Understanding how to prepare before applying &bull\; Staying Certified
LOCATION:Virtual
UID:e.492.13790
SEQUENCE:3
DTSTAMP:20260422T023849Z
URL:https://members.fredericksburgchamber.org/events/details/govcon-101-wosb-02-21-2024-13790
END:VEVENT

END:VCALENDAR
