BEGIN:VCALENDAR
VERSION:2.0
PRODID:-//ChamberMaster//Event Calendar 2.0//EN
METHOD:PUBLISH
X-PUBLISHED-TTL:P3D
REFRESH-INTERVAL:P3D
CALSCALE:GREGORIAN
BEGIN:VEVENT
DTSTART:20260121T170000Z
DTEND:20260121T180000Z
X-MICROSOFT-CDO-ALLDAYEVENT:FALSE
SUMMARY:GovCon: GSA Schedules
DESCRIPTION:Online Facilitated by University of Mary Washington SBDC The General Services Administration (GSA) plays a vital role in simplifying government procurement. Through GSA Schedules\, also known as Federal Supply Schedules (FSS) or Multiple Award Schedules (MAS)\, businesses can access a streamlined pathway to sell goods and services to federal\, state\, and local governments. This class provides a comprehensive overview of GSA schedules\, their benefits\, eligibility requirements and how to get started. You will learn: How to determine your eligibility Recommended pre-training What are the benefits of the schedule What are the different types of schedules What is "Best in Class" (BIC) Speaker(s): Lisa Wood is the current statewide director of Virginia APEX Accelerator. She previously was the Statewide Director of the Procurement Technical Assistance Centers (PTAC) for the Connecticut PTAC and prior to that was Statewide Director with the Ohio Department of Development after serving as PTAC Director for the Northwest Commission of Pennsylvania. Before joining the PTAC (now APEX Accelerator) community\, Lisa was a Contracting Officer for Bechtel Plant Machinery\, Inc. in the Greater Pittsburgh Area. Co-Sponsor(s): If you need further assistance or have a question\, please contact us at (540) 654-1383 Fee: No Cost Register Online
X-ALT-DESC;FMTTYPE=text/html:Online Facilitated by University of Mary Washington SBDC The General Services Administration (GSA) plays a vital role in simplifying government procurement. Through GSA Schedules\, also known as Federal Supply Schedules (FSS) or Multiple Award Schedules (MAS)\, businesses can access a streamlined pathway to sell goods and services to federal\, state\, and local governments. This class provides a comprehensive overview of GSA schedules\, their benefits\, eligibility requirements and how to get started. You will learn: How to determine your eligibility Recommended pre-training What are the benefits of the schedule What are the different types of schedules What is &ldquo\;Best in Class&rdquo\; (BIC) Speaker(s): Lisa Wood is the current statewide director of Virginia APEX Accelerator. She previously was the Statewide Director of the Procurement Technical Assistance Centers (PTAC) for the Connecticut PTAC and prior to that was Statewide Director with the Ohio Department of Development after serving as PTAC Director for the Northwest Commission of Pennsylvania. Before joining the PTAC (now APEX Accelerator) community\, Lisa was a Contracting Officer for Bechtel Plant Machinery\, Inc. in the Greater Pittsburgh Area. Co-Sponsor(s): If you need further assistance or have a question\, please contact us at (540) 654-1383 Fee: No Cost Register Online
LOCATION:Online
UID:e.492.15135
SEQUENCE:3
DTSTAMP:20260421T144630Z
URL:https://members.fredericksburgchamber.org/events/details/govcon-gsa-schedules-15135
END:VEVENT

END:VCALENDAR
