BEGIN:VCALENDAR
VERSION:2.0
PRODID:-//ChamberMaster//Event Calendar 2.0//EN
METHOD:PUBLISH
X-PUBLISHED-TTL:P3D
REFRESH-INTERVAL:P3D
CALSCALE:GREGORIAN
BEGIN:VEVENT
DTSTART:20260715T160000Z
DTEND:20260715T170000Z
X-MICROSOFT-CDO-ALLDAYEVENT:FALSE
SUMMARY:GovCon: HUBZone
DESCRIPTION:GovCon: HUBZone\n\n\n\n\n\nJul\n\n15\n\n2026\n\n\n\n\nWed\, Jul 15 12:00 PM to 1:00 PM\n\nAdd to Google Calendar | Outlook Calendar | Apple Calendar\n\n\n\n\nOnline\nFacilitated by the University of Mary Washington SBDC\n\n\n\nThe Federal Government has contracting goals for Women\, Minorities\, Service Disabled Veterans\, and HUBZone-located small businesses. These set-asides are a great way to gain entry into the complex world of Federal contracting. This class will introduce you to the HUBZone certification. We will cover these key areas:\n\n\n	Eligibility requirements for HUBZone\n	Understanding the application process\n	Understanding how to prepare before applying\n	Staying Certified\n\n\nDon't miss out on this informative presentation on how you can take advantage of the SBA's socio-economic small business set-asides.\n\n\nSpeaker(s):\n\nLisa Wood is the current statewide director of Virginia APEX Accelerator. She previously served as the Statewide Director of the Procurement Technical Assistance Centers (PTAC) for the Connecticut PTAC and\, prior to that\, as Statewide Director with the Ohio Department of Development\, after serving as PTAC Director for the Northwest Commission of Pennsylvania. Before joining the PTAC (now APEX Accelerator) community\, Lisa was a Contracting Officer for Bechtel Plant Machinery\, Inc. in the Greater Pittsburgh Area.\n\nIf you need further assistance or have a question\, please contact us at (540) 654-1383\n\nFee: No Cost\n\nRegister Online
X-ALT-DESC;FMTTYPE=text/html:<h1>GovCon: HUBZone</h1>\n\n<div>\n<div>\n<div>\n<div style="text-align:center">\n<div>Jul</div>\n\n<div>15</div>\n\n<div>2026</div>\n</div>\n</div>\n\n<div>\n<div>Wed\, Jul 15 12:00 PM to 1:00 PM</div>\n\n<div>Add to&nbsp\;<a href="https://clients.virginiasbdc.org/eventcal?type=google&amp\;e=140460023">Google Calendar</a>&nbsp\;|&nbsp\;<a href="https://clients.virginiasbdc.org/eventcal?e=140460023">Outlook Calendar</a>&nbsp\;|&nbsp\;<a href="https://clients.virginiasbdc.org/eventcal?e=140460023">Apple Calendar</a></div>\n</div>\n</div>\n</div>\n\n<div>Online\n<div>Facilitated by the&nbsp\;<a href="https://clients.virginiasbdc.org/center.aspx?center=46140">University of Mary Washington SBDC</a></div>\n</div>\n\n<div>\n<p>The Federal Government has contracting goals for Women\, Minorities\, Service Disabled Veterans\, and HUBZone-located small businesses. These set-asides are a great way to gain entry into the complex world of Federal contracting. This class will introduce you to the HUBZone certification. We will cover these key areas:</p>\n\n<ul>\n	<li>Eligibility requirements for HUBZone</li>\n	<li>Understanding the application process</li>\n	<li>Understanding how to prepare before applying</li>\n	<li>Staying Certified</li>\n</ul>\n\n<p>Don&rsquo\;t miss out on this informative presentation on how you can take advantage of the SBA&rsquo\;s socio-economic small business set-asides.</p>\n</div>\n\n<p><strong>Speaker(s):</strong><br />\nLisa Wood is the current statewide director of Virginia APEX Accelerator. She previously served as the Statewide Director of the Procurement Technical Assistance Centers (PTAC) for the Connecticut PTAC and\, prior to that\, as Statewide Director with the Ohio Department of Development\, after serving as PTAC Director for the Northwest Commission of Pennsylvania. Before joining the PTAC (now APEX Accelerator) community\, Lisa was a Contracting Officer for Bechtel Plant Machinery\, Inc. in the Greater Pittsburgh Area.</p>\n\n<p>If you need further assistance or have a question\, please contact us at (540) 654-1383</p>\n\n<p>Fee: No Cost</p>\n\n<div><a class="cdeventreg" href="https://clients.virginiasbdc.org/reg.aspx?mode=event&amp\;event=140460023" rel="nofollow" style="padding: 0.8rem 2rem\; font-size: 1.2rem\; display: inline-block\; margin-bottom: 0.5em\; background-color: rgb(0\, 64\, 117) !important\; color: white !important\;">Register Online</a></div>\n
LOCATION:Online
UID:e.492.15376
SEQUENCE:3
DTSTAMP:20260421T174806Z
URL:https://members.fredericksburgchamber.org/events/details/govcon-hubzone-15376
END:VEVENT

END:VCALENDAR
