BEGIN:VCALENDAR
VERSION:2.0
PRODID:-//ChamberMaster//Event Calendar 2.0//EN
METHOD:PUBLISH
X-PUBLISHED-TTL:P3D
REFRESH-INTERVAL:P3D
CALSCALE:GREGORIAN
BEGIN:VEVENT
DTSTART:20260617T160000Z
DTEND:20260617T170000Z
X-MICROSOFT-CDO-ALLDAYEVENT:FALSE
SUMMARY:GovCon: VOSB/SDVOSB
DESCRIPTION:GovCon: VOSB/SDVOSB\n\n\n\n\n\nJun\n\n17\n\n2026\n\n\n\n\nWed\, Jun 17 12:00 PM to 1:00 PM\n\nAdd to Google Calendar | Outlook Calendar | Apple Calendar\n\n\n\n\n Online\nFacilitated by University of Mary Washington SBDC\n\n\n\nTopic: Navigating the New SBA Veteran Owned Small Business/ Service Disabled Veteran Owned Small Business (VOSB/SDVOSB) Certification\n\nThe SBA oversees the certification of Veteran Owned Small Business/ Service Disabled Veteran Owned Small Business (VOSB/SDVOSB) for set-aside opportunities with the government. This class will walk you through the new application and give you advise on how to properly submit your application. In this class you will learn:\n\n  Where to access the portal for application submission\n\n  How to manage the required data\n\n  What documents will be needed\n\n  Eligibility guidelines\n\n\n \n\nSpeaker(s): Lisa Wood is the current statewide director of Virginia APEX Accelerator. She previously was the Statewide Director of the Procurement Technical Assistance Centers (PTAC) for the Connecticut PTAC and prior to that was Statewide Director with the Ohio Department of Development after serving as PTAC Director for the Northwest Commission of Pennsylvania. Before joining the PTAC (now APEX Accelerator) community\, Lisa was a Contracting Officer for Bechtel Plant Machinery\, Inc. in the Greater Pittsburgh Area.\n\nCo-Sponsor(s):\n\nIf you need further assistance or have a question\, please contact us at (540) 654-1383\n\nFee: No Cost\n\nRegister Online
X-ALT-DESC;FMTTYPE=text/html:<h1>GovCon: VOSB/SDVOSB</h1>\n\n<div>\n<div>\n<div>\n<div style="text-align:center">\n<div>Jun</div>\n\n<div>17</div>\n\n<div>2026</div>\n</div>\n</div>\n\n<div>\n<div>Wed\, Jun 17 12:00 PM to 1:00 PM</div>\n\n<div>Add to&nbsp\;<a href="https://clients.virginiasbdc.org/eventcal?type=google&amp\;e=140460022">Google Calendar</a>&nbsp\;|&nbsp\;<a href="https://clients.virginiasbdc.org/eventcal?e=140460022">Outlook Calendar</a>&nbsp\;|&nbsp\;<a href="https://clients.virginiasbdc.org/eventcal?e=140460022">Apple Calendar</a></div>\n</div>\n</div>\n</div>\n\n<div>&nbsp\;Online\n<div>Facilitated by&nbsp\;<a href="https://clients.virginiasbdc.org/center.aspx?center=46140">University of Mary Washington SBDC</a></div>\n</div>\n\n<div>\n<p>Topic: Navigating the New SBA Veteran Owned Small Business/ Service Disabled Veteran Owned Small Business (VOSB/SDVOSB) Certification</p>\n\n<p>The SBA oversees the certification of Veteran Owned Small Business/ Service Disabled Veteran Owned Small Business (VOSB/SDVOSB) for set-aside opportunities with the government. This class will walk you through the new application and give you advise on how to properly submit your application. In this class you will learn:</p>\n\n<p>&bull\; Where to access the portal for application submission</p>\n\n<p>&bull\; How to manage the required data</p>\n\n<p>&bull\; What documents will be needed</p>\n\n<p>&bull\; Eligibility guidelines</p>\n</div>\n\n<p>&nbsp\;</p>\n\n<p>Speaker(s): Lisa Wood is the current statewide director of Virginia APEX Accelerator. She previously was the Statewide Director of the Procurement Technical Assistance Centers (PTAC) for the Connecticut PTAC and prior to that was Statewide Director with the Ohio Department of Development after serving as PTAC Director for the Northwest Commission of Pennsylvania. Before joining the PTAC (now APEX Accelerator) community\, Lisa was a Contracting Officer for Bechtel Plant Machinery\, Inc. in the Greater Pittsburgh Area.</p>\n\n<p>Co-Sponsor(s):</p>\n\n<p>If you need further assistance or have a question\, please contact us at (540) 654-1383</p>\n\n<p>Fee: No Cost</p>\n\n<div><a class="cdeventreg" href="https://clients.virginiasbdc.org/reg.aspx?mode=event&amp\;event=140460022" rel="nofollow" style="padding: 0.8rem 2rem\; font-size: 1.2rem\; display: inline-block\; margin-bottom: 0.5em\; background-color: rgb(3\, 95\, 172)\; color: rgb(209\, 205\, 205)\;">Register Online</a></div>\n
LOCATION:Register Online
UID:e.492.15363
SEQUENCE:3
DTSTAMP:20260421T082112Z
URL:https://members.fredericksburgchamber.org/events/details/govcon-vosb-sdvosb-15363
END:VEVENT

END:VCALENDAR
