BEGIN:VCALENDAR
VERSION:2.0
PRODID:-//ChamberMaster//Event Calendar 2.0//EN
METHOD:PUBLISH
X-PUBLISHED-TTL:P3D
REFRESH-INTERVAL:P3D
CALSCALE:GREGORIAN
BEGIN:VEVENT
DTSTART:20220813T150000Z
DTEND:20220813T190000Z
X-MICROSOFT-CDO-ALLDAYEVENT:FALSE
SUMMARY:Grand Opening FAHASS Pride Center
DESCRIPTION:Come one\, come all\, to the Grand Opening of the brand new FAHASS Pride Center! The very first LGBTQ Community Center in the Fredericksburg region. We'll be celebrating with food\, drinks\, giveaways\, and more! Come tour the space and join us in this historic moment. This is a free open house style event. Our Founding Member campaign is still running! Interested in becoming a Founding Member of the Center? Click here or visit our website to learn more   https://buff.ly/3OzjzvC
X-ALT-DESC;FMTTYPE=text/html:Come one\, come all\, to the Grand Opening of the brand new FAHASS Pride Center! The very first LGBTQ Community Center in the Fredericksburg region. We&#39\;ll be celebrating with food\, drinks\, giveaways\, and more! Come tour the space and join us in this historic moment. This is a free open house style event. Our Founding Member campaign is still running! Interested in becoming a Founding Member of the Center? Click here or visit our website to learn more &gt\; https://buff.ly/3OzjzvC
LOCATION:4343 Plank Road Suite 110 Fredericksburg\, VA 22407
UID:e.492.13051
SEQUENCE:3
DTSTAMP:20260422T225754Z
URL:https://members.fredericksburgchamber.org/events/details/grand-opening-fahass-pride-center-13051
END:VEVENT

END:VCALENDAR
