BEGIN:VCALENDAR
VERSION:2.0
PRODID:-//ChamberMaster//Event Calendar 2.0//EN
METHOD:PUBLISH
X-PUBLISHED-TTL:P3D
REFRESH-INTERVAL:P3D
CALSCALE:GREGORIAN
BEGIN:VEVENT
DTSTART:20240316T120000Z
DTEND:20240316T160000Z
X-MICROSOFT-CDO-ALLDAYEVENT:FALSE
SUMMARY:Grand Slamrock 5K\, 1 Mile\, 1/2 Mile
DESCRIPTION:Come celebrate St. Patrick's Day and the approach of baseball season at the 3rd Annual Grand Slamrock 5K. This is the perfect event to slide into Spring after you've dugout from a long winter of cold and snow. Runners and walkers alike are welcome to join us in this race! The 5K is stroller-friendly\, but no dogs are allowed in any of the races\, so leave the pups at home! What's included in your pot of gold? A fast\, flat USATF certified course Finish on the field inside the stadium! Convenient parking and amenities Custom finisher medals Unique race t-shirt design Super cool awards Races for all ages and abilities Hear your name announced over the loudspeakers as you sprint to the finish Watch yourself finish on the stadium big screen A post-race beer courtesy of Matern Staffing!
X-ALT-DESC;FMTTYPE=text/html:Come celebrate St. Patrick&#39\;s Day and the approach of baseball season at the 3rd Annual Grand Slamrock 5K. This is the perfect event to slide into Spring after you&#39\;ve dugout from a long winter of cold and snow. Runners and walkers alike are welcome to join us in this race! The 5K is stroller-friendly\, but no dogs are allowed in any of the races\, so leave the pups at home! What&#39\;s included in your pot of gold? A fast\, flat USATF certified course Finish on the field inside the stadium! Convenient parking and amenities Custom finisher medals Unique race t-shirt design Super cool awards Races for all ages and abilities Hear your name announced over the loudspeakers as you sprint to the finish Watch yourself finish on the stadium big screen A post-race beer courtesy of Matern Staffing!
LOCATION:VA Credit Union Stadium - Home of the FredNats
UID:e.492.13879
SEQUENCE:3
DTSTAMP:20260422T054648Z
URL:https://members.fredericksburgchamber.org/events/details/grand-slamrock-5k-1-mile-1-2-mile-13879
END:VEVENT

END:VCALENDAR
