BEGIN:VCALENDAR
VERSION:2.0
PRODID:-//ChamberMaster//Event Calendar 2.0//EN
METHOD:PUBLISH
X-PUBLISHED-TTL:P3D
REFRESH-INTERVAL:P3D
CALSCALE:GREGORIAN
BEGIN:VEVENT
DTSTART:20260123T173000Z
DTEND:20260123T190000Z
X-MICROSOFT-CDO-ALLDAYEVENT:FALSE
SUMMARY:Growth Playbook - Scale Your Business Without Chaos
DESCRIPTION:Scale Your Business Without Chaos - Delegate Effectively\, Build Decision Architectures\, Implement Systems\, and Avoid the Owner's Trap\n\n\n\n\nThis SUCCESS Space hosted networking event focuses on the Structure and Systems required to support the mindset of growth specifically helping founders move from the "Owner's Trap" to "Strategist's Freedom. Along with networking\, the 45 minute workshop presented by Mastery Professionals covers:\n\n\n	The Owner's Trap: Why it feels faster to "do it myself\," and the financial cost of being the business bottleneck. \n	The 3 Plays to Let Go: Installing a simple Decision Architecture using Smart Safeguards\, Team Buy-In\, and Simple Systems.
X-ALT-DESC;FMTTYPE=text/html:<div>\n<div style="margin-left:0px\; margin-right:0px">Scale Your Business Without Chaos - Delegate Effectively\, Build Decision Architectures\, Implement Systems\, and Avoid the Owner&#39\;s Trap</div>\n</div>\n\n<div>\n<div>\n<p>This SUCCESS Space hosted networking event focuses on the Structure and Systems required to support the mindset of growth&mdash\;specifically helping founders move from the &quot\;Owner&#39\;s Trap&quot\; to &quot\;Strategist&#39\;s Freedom. Along with networking\, the 45 minute workshop presented by Mastery Professionals covers:</p>\n\n<ul>\n	<li>The Owner&#39\;s Trap: Why it feels faster to &quot\;do it myself\,&quot\; and the financial cost of being the business bottleneck.&nbsp\;</li>\n	<li>The 3 Plays to Let Go: Installing a simple Decision Architecture using Smart Safeguards\, Team Buy-In\, and Simple Systems.</li>\n</ul>\n</div>\n</div>\n
LOCATION:SUCCESS Space Fredericksburg 1 Towne Centre Blvd. Suite 2500 Fredericksburg\, VA 22407
UID:e.492.15126
SEQUENCE:3
DTSTAMP:20260421T144929Z
URL:https://members.fredericksburgchamber.org/events/details/growth-playbook-scale-your-business-without-chaos-15126
END:VEVENT

END:VCALENDAR
