BEGIN:VCALENDAR
VERSION:2.0
PRODID:-//ChamberMaster//Event Calendar 2.0//EN
METHOD:PUBLISH
X-PUBLISHED-TTL:P3D
REFRESH-INTERVAL:P3D
CALSCALE:GREGORIAN
BEGIN:VEVENT
DTSTART:20221029T140000Z
DTEND:20221029T210000Z
X-MICROSOFT-CDO-ALLDAYEVENT:FALSE
SUMMARY:Halloween Harvest Festival
DESCRIPTION:COME OUT FOR A SPELLBINDING EVENT FUN FOR THE WHOLE FAMILY ~BOUNCE HOUSE ~ CRAFTERS & VENDORS ~ ~ CLASSIC & CONCEPT CARS ~ LIVE BAND ~ ~ DJ ~ HARD CIDER ~ FOOD TRUCKS ~ ~TRICK/TRUNK OR TREATING~ COME DRESSED IN YOUR BEST COSTUME
X-ALT-DESC;FMTTYPE=text/html:COME OUT FOR A SPELLBINDING EVENT FUN FOR THE WHOLE FAMILY ~BOUNCE HOUSE ~ CRAFTERS &amp\; VENDORS ~ ~ CLASSIC &amp\; CONCEPT CARS ~ LIVE BAND ~ ~ DJ ~ HARD CIDER ~ FOOD TRUCKS ~ ~TRICK/TRUNK OR TREATING~ COME DRESSED IN YOUR BEST COSTUME
LOCATION:Revatone Farm 10828 Catharpin Rd Spotsylvania VA 22553
UID:e.492.13133
SEQUENCE:3
DTSTAMP:20260422T194300Z
URL:https://members.fredericksburgchamber.org/events/details/halloween-harvest-festival-13133
END:VEVENT

END:VCALENDAR
