BEGIN:VCALENDAR
VERSION:2.0
PRODID:-//ChamberMaster//Event Calendar 2.0//EN
METHOD:PUBLISH
X-PUBLISHED-TTL:P3D
REFRESH-INTERVAL:P3D
CALSCALE:GREGORIAN
BEGIN:VEVENT
DTSTART:20221029T130000Z
DTEND:20221029T160000Z
X-MICROSOFT-CDO-ALLDAYEVENT:FALSE
SUMMARY:Harry Potter Treats On the Streets
DESCRIPTION:Join Us At Mellow Mushroom All Month of October and At 10am for Trick or Treating for the little ones as we will be in Full Swing Of Harry Potter. Come see Us all Month we will be Decked Out In Harry Potter Fest\, and Scarecrow fest. Come Vote For us!
X-ALT-DESC;FMTTYPE=text/html:Join Us At Mellow Mushroom All Month of October and At 10am for Trick or Treating for the little ones as we will be in Full Swing Of Harry Potter. Come see Us all Month we will be Decked Out In Harry Potter Fest\, and Scarecrow fest. Come Vote For us!
LOCATION:Mellow Mushroom Fredericksburg 609 William St.
UID:e.492.13123
SEQUENCE:3
DTSTAMP:20260422T181134Z
URL:https://members.fredericksburgchamber.org/events/details/harry-potter-treats-on-the-streets-13123
END:VEVENT

END:VCALENDAR
