BEGIN:VCALENDAR
VERSION:2.0
PRODID:-//ChamberMaster//Event Calendar 2.0//EN
METHOD:PUBLISH
X-PUBLISHED-TTL:P3D
REFRESH-INTERVAL:P3D
CALSCALE:GREGORIAN
BEGIN:VEVENT
DTSTART:20221022T190000Z
DTEND:20221022T230000Z
X-MICROSOFT-CDO-ALLDAYEVENT:FALSE
SUMMARY:Harvest Celebration: Savor the Taste of Local Foods
DESCRIPTION:Savor the taste of local foods prepared at our co-op. Meet local farmers and producers. Proceeds are used to reduce food insecurity in FXBG! We are seeking sponsors and supporters. Click the links below to find out how you can attend and also participate in this fantastic event!
X-ALT-DESC;FMTTYPE=text/html:Savor the taste of local foods prepared at our co-op. Meet local farmers and producers. Proceeds are used to reduce food insecurity in FXBG! We are seeking sponsors and supporters. Click the links below to find out how you can attend and also participate in this fantastic event!
LOCATION:Fredericksburg Food Co-op 320 Emancipation Highway\, Fredericksburg\, VA 22401
UID:e.492.13137
SEQUENCE:3
DTSTAMP:20260422T181809Z
URL:https://members.fredericksburgchamber.org/events/details/harvest-celebration-savor-the-taste-of-local-foods-13137
END:VEVENT

END:VCALENDAR
