BEGIN:VCALENDAR
VERSION:2.0
PRODID:-//ChamberMaster//Event Calendar 2.0//EN
METHOD:PUBLISH
X-PUBLISHED-TTL:P3D
REFRESH-INTERVAL:P3D
CALSCALE:GREGORIAN
BEGIN:VEVENT
DTSTART:20230620T153000Z
DTEND:20230620T173000Z
X-MICROSOFT-CDO-ALLDAYEVENT:FALSE
SUMMARY:Headshot Refresh & Networking - Hosted by Jessica Peyton with Movement Mortgage
DESCRIPTION:Jessica Peyton Mortgage Lending Team is thrilled to welcome you to the Photography Headshot Refresh Day at POUR by Fifth Scents in Downtown FXBG! We are excited to have photographer Lauren Weed capturing stunning headshots that will help elevate your professional image. We understand the importance of a compelling headshot in today's professional world\, and we have curated this event specifically for individuals like you who are looking to refresh their professional image. This event provides you with the opportunity to work with an experienced photographer\, Lauren Weed\, who has a keen eye for capturing your unique personality and style.
X-ALT-DESC;FMTTYPE=text/html:Jessica Peyton Mortgage Lending Team is thrilled to welcome you to the Photography Headshot Refresh Day at POUR by Fifth Scents in Downtown FXBG! We are excited to have photographer Lauren Weed capturing stunning headshots that will help elevate your professional image. We understand the importance of a compelling headshot in today&#39\;s professional world\, and we have curated this event specifically for individuals like you who are looking to refresh their professional image. This event provides you with the opportunity to work with an experienced photographer\, Lauren Weed\, who has a keen eye for capturing your unique personality and style.
LOCATION:POUR by Fifth Scents Candle Co 1011 Caroline St\, Fredericksburg\, VA 22401
UID:e.492.13605
SEQUENCE:3
DTSTAMP:20260422T070617Z
URL:https://members.fredericksburgchamber.org/events/details/headshot-refresh-networking-hosted-by-jessica-peyton-with-movement-mortgage-13605
END:VEVENT

END:VCALENDAR
