BEGIN:VCALENDAR
VERSION:2.0
PRODID:-//ChamberMaster//Event Calendar 2.0//EN
METHOD:PUBLISH
X-PUBLISHED-TTL:P3D
REFRESH-INTERVAL:P3D
CALSCALE:GREGORIAN
BEGIN:VEVENT
DTSTART:20240415T220000Z
DTEND:20240415T230000Z
X-MICROSOFT-CDO-ALLDAYEVENT:FALSE
SUMMARY:Health Careers Fair
DESCRIPTION:At the Health Careers Fair\, you'll have the opportunity to explore a wide range of health-related career opportunities\, including Nursing\, Dental\, Physical Therapy\, Emergency Medical Services\, and much more.\n\nOne of the highlights of the fair will be the chance to meet expert faculty members from Germanna's Health Programs. Whether you're considering a career change\, exploring educational pathways\, or seeking guidance on how to get started\, our faculty members are here to support you every step of the way.\n\nJoin us at the Daniel Technology Center to discover Germanna's Health Programs all in one place. Don't miss this unique opportunity to take the next step towards achieving your goals.
X-ALT-DESC;FMTTYPE=text/html:<p>At the Health Careers Fair\, you&#39\;ll have the opportunity to explore a wide range of health-related career opportunities\, including Nursing\, Dental\, Physical Therapy\, Emergency Medical Services\, and much more.</p>\n\n<p>One of the highlights of the fair will be the chance to meet expert faculty members from Germanna&#39\;s Health Programs. Whether you&#39\;re considering a career change\, exploring educational pathways\, or seeking guidance on how to get started\, our faculty members are here to support you every step of the way.</p>\n\n<p>Join us at the Daniel Technology Center to discover Germanna&#39\;s Health Programs all in one place. Don&#39\;t miss this unique opportunity to take the next step towards achieving your goals.</p>\n
LOCATION:Daniel Technology Center 18121 Technology Drive\, Culpeper\, VA 22701
UID:e.492.13941
SEQUENCE:3
DTSTAMP:20260422T070954Z
URL:https://members.fredericksburgchamber.org/events/details/health-careers-fair-13941
END:VEVENT

END:VCALENDAR
