BEGIN:VCALENDAR
VERSION:2.0
PRODID:-//ChamberMaster//Event Calendar 2.0//EN
METHOD:PUBLISH
X-PUBLISHED-TTL:P3D
REFRESH-INTERVAL:P3D
CALSCALE:GREGORIAN
BEGIN:VEVENT
DTSTART:20240221T150000Z
DTEND:20240221T160000Z
X-MICROSOFT-CDO-ALLDAYEVENT:FALSE
SUMMARY:Health Careers Open House
DESCRIPTION:Learn more about Germanna Community College and our many pathways to success. Be prepared to stop at each of our tour stations to discover a career in dental\, nursing\, physical therapy assisting\, EMS and much more.\n\nPlease report to the French Slaughter Building (FSB) at the Locust Grove Campus and check-in at the front lobby.
X-ALT-DESC;FMTTYPE=text/html:<p>Learn more about Germanna Community College and our many pathways to success. Be prepared to stop at each of our tour stations to discover a career in dental\, nursing\, physical therapy assisting\, EMS and much more.</p>\n\n<p>Please report to the French Slaughter Building (FSB) at the Locust Grove Campus and check-in at the front lobby.</p>\n
LOCATION:Locust Grove Campus 2130 Germanna Hwy\, Locust Grove\, VA 22508
UID:e.492.13874
SEQUENCE:3
DTSTAMP:20260422T043854Z
URL:https://members.fredericksburgchamber.org/events/details/health-careers-open-house-02-21-2024-13874
END:VEVENT

END:VCALENDAR
