BEGIN:VCALENDAR
VERSION:2.0
PRODID:-//ChamberMaster//Event Calendar 2.0//EN
METHOD:PUBLISH
X-PUBLISHED-TTL:P3D
REFRESH-INTERVAL:P3D
CALSCALE:GREGORIAN
BEGIN:VEVENT
DTSTART:20231116T150000Z
DTEND:20231116T160000Z
X-MICROSOFT-CDO-ALLDAYEVENT:FALSE
SUMMARY:Health Careers Open House
DESCRIPTION:Join us for our in-person HEALTH CAREERS OPEN HOUSE.\n\nExplore all that Germanna has to offer you:\n\nSHORT-TERM CAREER TRAINING AND COLLEGE DEGREES\n\nWAYS TO PAY FOR YOUR EDUCATION\n\nHOW TO GET STARTED.\n\nThis is your chance to learn about our support services\, tour our Locust Grove Campus\, and meet Germanna healthcare faculty and staff.
X-ALT-DESC;FMTTYPE=text/html:<p>Join us for our in-person&nbsp\;<strong>HEALTH CAREERS OPEN HOUSE</strong>.</p>\n\n<p>Explore all that Germanna has to offer you:<br />\n<strong>SHORT-TERM CAREER TRAINING AND COLLEGE DEGREES<br />\nWAYS TO PAY FOR YOUR EDUCATION<br />\nHOW TO GET STARTED.</strong></p>\n\n<p>This is your chance to learn about our support services\, tour our Locust Grove Campus\, and meet Germanna healthcare faculty and staff.</p>\n
LOCATION:Locust Grove Campus 2130 Germanna Hwy\, Locust Grove\, VA 22508
UID:e.492.13759
SEQUENCE:3
DTSTAMP:20260421T220850Z
URL:https://members.fredericksburgchamber.org/events/details/health-careers-open-house-11-16-2023-13759
END:VEVENT

END:VCALENDAR
