BEGIN:VCALENDAR
VERSION:2.0
PRODID:-//ChamberMaster//Event Calendar 2.0//EN
METHOD:PUBLISH
X-PUBLISHED-TTL:P3D
REFRESH-INTERVAL:P3D
CALSCALE:GREGORIAN
BEGIN:VEVENT
DTSTART:20231109T170000Z
DTEND:20231109T183000Z
X-MICROSOFT-CDO-ALLDAYEVENT:FALSE
SUMMARY:Healthcare Fair
DESCRIPTION:Healthcare employers will be at our Locust Grove Campus to network with students.
X-ALT-DESC;FMTTYPE=text/html:<span style="font-family:-apple-system\,blinkmacsystemfont\,segoe ui\,roboto\,helvetica neue\,arial\,sans-serif\,apple color emoji\,segoe ui emoji\,segoe ui symbol\; font-size:14px">Healthcare employers will be at our Locust Grove Campus to network with students.</span>
LOCATION:Locust Grove Campus 2130 Germanna Highway\, Locust Grove\, VA 22508
UID:e.492.13737
SEQUENCE:3
DTSTAMP:20260421T220232Z
URL:https://members.fredericksburgchamber.org/events/details/healthcare-fair-13737
END:VEVENT

END:VCALENDAR
