BEGIN:VCALENDAR
VERSION:2.0
PRODID:-//ChamberMaster//Event Calendar 2.0//EN
METHOD:PUBLISH
X-PUBLISHED-TTL:P3D
REFRESH-INTERVAL:P3D
CALSCALE:GREGORIAN
BEGIN:VEVENT
DTSTART;VALUE=DATE:20220915
DTEND;VALUE=DATE:20220916
TRANSP:TRANSPARENT
X-MICROSOFT-CDO-ALLDAYEVENT:TRUE
SUMMARY:Heart of Gold Day- Wear Gold for Childhood Cancer Awareness
DESCRIPTION:Show that you have a Heart of Gold for Childhood Cancer by wearing gold in honor of kiddos in all phases of a cancer diagnosis.\n\nPlease let us know  at Fairy Godmother Project if your business would like to participate in our month long efforts! We can provide signs for your business\,  gold ribbons and/or awareness bracelets!!
X-ALT-DESC;FMTTYPE=text/html:<span style="color:rgb(5\, 5\, 5)\; font-family:segoe ui historic\,segoe ui\,helvetica\,arial\,sans-serif\; font-size:15px">Show that you have a Heart of Gold for Childhood Cancer by wearing gold in honor of kiddos in all phases of a cancer diagnosis.</span><br />\n<span style="color:rgb(5\, 5\, 5)\; font-family:segoe ui historic\,segoe ui\,helvetica\,arial\,sans-serif\; font-size:15px">Please let us know&nbsp\; at Fairy Godmother Project if your business would like to participate in our month long efforts! We can provide signs for your business\,&nbsp\; gold ribbons and/or awareness bracelets!!</span>
LOCATION:This can be done in your office\, home or anywhere!
UID:e.492.13091
SEQUENCE:3
DTSTAMP:20260422T194825Z
URL:https://members.fredericksburgchamber.org/events/details/heart-of-gold-day-wear-gold-for-childhood-cancer-awareness-13091
END:VEVENT

END:VCALENDAR
