BEGIN:VCALENDAR
VERSION:2.0
PRODID:-//ChamberMaster//Event Calendar 2.0//EN
METHOD:PUBLISH
X-PUBLISHED-TTL:P3D
REFRESH-INTERVAL:P3D
CALSCALE:GREGORIAN
BEGIN:VEVENT
DTSTART:20240330T140000Z
DTEND:20240330T170000Z
X-MICROSOFT-CDO-ALLDAYEVENT:FALSE
SUMMARY:High Road Leadership: Bringing People Together In A World That Divides
DESCRIPTION:Mr. William Hughes\, owner of Leading Eagles LLC\, is hosting a John C. Maxwell broadcast presentation focused on his soon to be released book\, High Road Leadership: Bringing People Together In A World That Divides at the Calvary Baptist Church at 15880 Crest Drive\, Woodbridge\, VA on March 30 from 9am to 1pm. \n\n\n\nJohn Maxwell is the widely recognized as the leading author and speaker on leadership. This book is critically relevant to today. Attendees will gain fresh perspectives on the leadership needs for these times.\n\n\n\nThe event is sponsored by church deacon\, businessman\, and Voices of Service singer\, Mr. Caleb Green. \n\n\n\nAs part of the event\, a roundtable discussion on "What's RIGHT with Youth Today" will be held featuring panelists who work with youth in our communities. There will be a drawing for a galley copy of the book\, signed by Dr. Maxwell.\n\n\n\nReserve your seat now at https://tinyurl.com/High-Road-Leadership.
X-ALT-DESC;FMTTYPE=text/html:<p><span style="font-size:12px"><span style="font-family:arial\,helvetica\,sans-serif">Mr. William Hughes\, owner of Leading Eagles LLC\, is hosting a John C. Maxwell broadcast presentation focused on his soon to be released book\, </span><em><strong>High Road Leadership: Bringing People Together In A World That Divides</strong></em><span style="font-family:arial\,helvetica\,sans-serif">&nbsp\;at the Calvary Baptist Church at 15880 Crest Drive\, Woodbridge\, VA on March 30 from 9am to 1pm.&nbsp\;<br />\n<br />\nJohn Maxwell is the widely recognized as the leading author and speaker on leadership. This book is critically relevant to today. Attendees will gain fresh perspectives on the leadership needs for these times.<br />\n<br />\nThe event is sponsored by church deacon\, businessman\, and <em><strong>Voices of Service</strong></em> singer\, Mr. Caleb Green.&nbsp\;</span><br />\n<br />\n<span style="font-family:arial\,helvetica\,sans-serif">As part of the event\, a roundtable discussion on </span><em><strong>&ldquo\;What&rsquo\;s RIGHT with Youth Today&rdquo\;</strong></em><span style="font-family:arial\,helvetica\,sans-serif"> will be held featuring panelists who work with youth in our communities. There will be a drawing for a galley copy of the book\, signed by Dr. Maxwell.</span></span><br />\n<br />\n<span style="font-size:12px"><strong>Reserve your seat now at https://tinyurl.com/High-Road-Leadership.&nbsp\;&nbsp\;</strong></span></p>\n\n<p>&nbsp\;</p>\n
LOCATION:15880 Crest Dr.\, Woodbridge\, VA
UID:e.492.13930
SEQUENCE:3
DTSTAMP:20260422T054535Z
URL:https://members.fredericksburgchamber.org/events/details/high-road-leadership-bringing-people-together-in-a-world-that-divides-13930
END:VEVENT

END:VCALENDAR
