BEGIN:VCALENDAR
VERSION:2.0
PRODID:-//ChamberMaster//Event Calendar 2.0//EN
METHOD:PUBLISH
X-PUBLISHED-TTL:P3D
REFRESH-INTERVAL:P3D
CALSCALE:GREGORIAN
BEGIN:VEVENT
DTSTART:20230216T233000Z
DTEND:20230217T013000Z
X-MICROSOFT-CDO-ALLDAYEVENT:FALSE
SUMMARY:Historically Black Colleges & Universities (HBCU) Virtual Transfer Showcase
DESCRIPTION:Join us for this HBCU (Historically Black Universities & Colleges) virtual Transfer Showcase! HBCU attendees include the following institutions:\n\n         Bowie State University\n\n         Delaware State University\n\n         Elizabeth City State University\n\n         Morgan State University\n\n         Norfolk State University\n\n         North Carolina A&T State University\n\n         Virginia State University\n\n         West Virginia State University\n\nHear from an HBCU Keynote speaker and alumni panel\, attend breakout sessions with the HBCU's\, followed by Q&A sessions.
X-ALT-DESC;FMTTYPE=text/html:<p><span style="background-color:transparent\; color:rgb(0\, 58\, 92)\; font-family:arial\; font-size:10pt">Join us for this HBCU (Historically Black Universities &amp\; Colleges) virtual Transfer Showcase! HBCU attendees include the following institutions:</span></p>\n\n<p><span style="background-color:transparent\; color:rgb(0\, 58\, 92)\; font-family:arial\; font-size:10pt">&middot\;</span><span style="background-color:transparent\; color:rgb(0\, 58\, 92)\; font-family:times new roman\; font-size:7pt">&nbsp\; &nbsp\; &nbsp\; &nbsp\; </span><span style="background-color:transparent\; color:rgb(0\, 58\, 92)\; font-family:arial\; font-size:10pt">Bowie State University</span></p>\n\n<p><span style="background-color:transparent\; color:rgb(0\, 58\, 92)\; font-family:arial\; font-size:10pt">&middot\;</span><span style="background-color:transparent\; color:rgb(0\, 58\, 92)\; font-family:times new roman\; font-size:7pt">&nbsp\; &nbsp\; &nbsp\; &nbsp\; </span><span style="background-color:transparent\; color:rgb(0\, 58\, 92)\; font-family:arial\; font-size:10pt">Delaware State University</span></p>\n\n<p><span style="background-color:transparent\; color:rgb(0\, 58\, 92)\; font-family:arial\; font-size:10pt">&middot\;</span><span style="background-color:transparent\; color:rgb(0\, 58\, 92)\; font-family:times new roman\; font-size:7pt">&nbsp\; &nbsp\; &nbsp\; &nbsp\; </span><span style="background-color:transparent\; color:rgb(0\, 58\, 92)\; font-family:arial\; font-size:10pt">Elizabeth City State University</span></p>\n\n<p><span style="background-color:transparent\; color:rgb(0\, 58\, 92)\; font-family:arial\; font-size:10pt">&middot\;</span><span style="background-color:transparent\; color:rgb(0\, 58\, 92)\; font-family:times new roman\; font-size:7pt">&nbsp\; &nbsp\; &nbsp\; &nbsp\; </span><span style="background-color:transparent\; color:rgb(0\, 58\, 92)\; font-family:arial\; font-size:10pt">Morgan State University</span></p>\n\n<p><span style="background-color:transparent\; color:rgb(0\, 58\, 92)\; font-family:arial\; font-size:10pt">&middot\;</span><span style="background-color:transparent\; color:rgb(0\, 58\, 92)\; font-family:times new roman\; font-size:7pt">&nbsp\; &nbsp\; &nbsp\; &nbsp\; </span><span style="background-color:transparent\; color:rgb(0\, 58\, 92)\; font-family:arial\; font-size:10pt">Norfolk State University</span></p>\n\n<p><span style="background-color:transparent\; color:rgb(0\, 58\, 92)\; font-family:arial\; font-size:10pt">&middot\;</span><span style="background-color:transparent\; color:rgb(0\, 58\, 92)\; font-family:times new roman\; font-size:7pt">&nbsp\; &nbsp\; &nbsp\; &nbsp\; </span><span style="background-color:transparent\; color:rgb(0\, 58\, 92)\; font-family:arial\; font-size:10pt">North Carolina A&amp\;T State University</span></p>\n\n<p><span style="background-color:transparent\; color:rgb(0\, 58\, 92)\; font-family:arial\; font-size:10pt">&middot\;</span><span style="background-color:transparent\; color:rgb(0\, 58\, 92)\; font-family:times new roman\; font-size:7pt">&nbsp\; &nbsp\; &nbsp\; &nbsp\; </span><span style="background-color:transparent\; color:rgb(0\, 58\, 92)\; font-family:arial\; font-size:10pt">Virginia State University</span></p>\n\n<p><span style="background-color:transparent\; color:rgb(0\, 58\, 92)\; font-family:arial\; font-size:10pt">&middot\;</span><span style="background-color:transparent\; color:rgb(0\, 58\, 92)\; font-family:times new roman\; font-size:7pt">&nbsp\; &nbsp\; &nbsp\; &nbsp\; </span><span style="background-color:transparent\; color:rgb(0\, 58\, 92)\; font-family:arial\; font-size:10pt">West Virginia State University</span></p>\n\n<p><span style="background-color:transparent\; color:rgb(0\, 58\, 92)\; font-family:arial\; font-size:10pt">Hear from an HBCU Keynote speaker and alumni panel\, attend breakout sessions with the HBCU&#39\;s\, followed by Q&amp\;A sessions.</span></p>\n
LOCATION:Online via Zoom
UID:e.492.13410
SEQUENCE:3
DTSTAMP:20260422T115232Z
URL:https://members.fredericksburgchamber.org/events/details/historically-black-colleges-universities-hbcu-virtual-transfer-showcase-13410
END:VEVENT

END:VCALENDAR
