BEGIN:VCALENDAR
VERSION:2.0
PRODID:-//ChamberMaster//Event Calendar 2.0//EN
METHOD:PUBLISH
X-PUBLISHED-TTL:P3D
REFRESH-INTERVAL:P3D
CALSCALE:GREGORIAN
BEGIN:VEVENT
DTSTART:20260501T220000Z
DTEND:20260502T000000Z
X-MICROSOFT-CDO-ALLDAYEVENT:FALSE
SUMMARY:History Trivia
DESCRIPTION:Put your knowledge to the test at History Trivia Night\, featuring Celebrity Quizmaster Scott Harris\, Executive Director of UMW Museums! Questions on a wide range of historical topics. Cash bar on site. Light snacks provided. Registration is required. Please email us at jamesmonroemuseum@gmail.com to reserve your spot!
X-ALT-DESC;FMTTYPE=text/html:Put your knowledge to the test at History Trivia Night\, featuring Celebrity Quizmaster Scott Harris\, Executive Director of UMW Museums! Questions on a wide range of historical topics. Cash bar on site. Light snacks provided. Registration is required. Please email us at jamesmonroemuseum@gmail.com to reserve your spot!
LOCATION:James Monroe Museum 908 Charles Street
UID:e.492.15341
SEQUENCE:3
DTSTAMP:20260421T143405Z
URL:https://members.fredericksburgchamber.org/events/details/history-trivia-05-01-2026-15341
END:VEVENT

END:VCALENDAR
