BEGIN:VCALENDAR
VERSION:2.0
PRODID:-//ChamberMaster//Event Calendar 2.0//EN
METHOD:PUBLISH
X-PUBLISHED-TTL:P3D
REFRESH-INTERVAL:P3D
CALSCALE:GREGORIAN
BEGIN:VEVENT
DTSTART:20180905T160000Z
DTEND:20180905T160000Z
X-MICROSOFT-CDO-ALLDAYEVENT:FALSE
SUMMARY:HobNob: Politics and Polling
DESCRIPTION:Note: The Fredericksburg Regional Chamber is an nonpartisan organization. The straw poll results represents the opinions of the Hob Nob attendees. \n	\n	\n	\n	\n	Who:  Candidates from the statewide senatorial race\, congressional races with districts overlapping in the Fredericksburg region\, and local races. \n\n	\n\n	Candidates Invited\n\n	Senate Race:\n\n	Senator Tim Kaine\n\n	Del. Nick Freitas\n\n	Corey Stewart\n\n	E.W. Jackson\n\n	1st Congressional District Congress:\n\n	Congressman Robert J. "Rob" Wittman\n\n	Edwin Santana\, Jr. - Confirmed\n\n	John Suddarth\n\n	Vangie Williams\n\n	 7th Congressional District:\n\n	Congressman Dave Brat\n\n	Abigail Spanberger\n\n	Dan Ward\n\n	\n\n	\n\n	 \n\n	What:  An all-American political rally that celebrates the electoral process in a fun\, informal\, multi-partisan setting.  Enjoy food\, straw pole voting and meet and mingle with local business leaders\, elected officials\, candidates and constituents.\n\n	 \n\n	 \n\n	 \n\n	Why:  The event provides a great opportunity for candidates to campaign to a regional audience and for voters to meet them personally.  Attendees will have the opportunity to discuss current issues one-on-one with candidates and elected officials. This event is unique among other political rallies in the Top of Virginia region as it is the only one that includes all political parties and candidates.\n\n	\n\n	Sponsorships available.
X-ALT-DESC;FMTTYPE=text/html:<ul class="cms-widgets" style="box-sizing: border-box\; margin: 0px\; padding-right: 0px\; padding-left: 0px\; font-family: Arial\, Helvetical\, sans-serif\; font-size: 16px\;">\n	<li class="cms-widget published " contentid="214167" contenttypeid="6" order="3" pageareaid="12" style="box-sizing: border-box\; list-style-type: none !important\; padding: 0px !important\; list-style-image: none !important\; border: none !important\;">\n	<div class="cms-design-panel" id="content-214167" style="box-sizing: border-box\;">\n	<p style="box-sizing: border-box\; margin: 0px 0px 10px\; font-size: 1rem\;"><em style="box-sizing: border-box\;"><span style="box-sizing: border-box\; font-weight: 700\;">Note: The&nbsp\;Fredericksburg Regional Chamber is an nonpartisan organization. The straw poll results represents the opinions of the Hob Nob&nbsp\;attendees.&nbsp\;</span></em></p>\n	</div>\n	</li>\n	<li class="cms-widget published " contentid="71912" contenttypeid="6" order="4" pageareaid="12" style="box-sizing: border-box\; list-style-type: none !important\; padding: 0px !important\; list-style-image: none !important\; border: none !important\;">\n	<div class="cms-design-panel" id="content-71912" style="box-sizing: border-box\;">\n	<p style="box-sizing: border-box\; margin: 0px 0px 10px\; font-size: 1rem\;"><span style="box-sizing: border-box\; font-weight: 700\;">Who:&nbsp\;&nbsp\;</span>Candidates from the statewide senatorial race\, congressional races with districts overlapping&nbsp\;in the Fredericksburg region\, and local races.&nbsp\;<br />\n	<br />\n	<u>Candidates Invited</u><br />\n	Senate Race:<br />\n	Senator Tim Kaine<br />\n	Del. Nick Freitas<br />\n	Corey Stewart<br />\n	E.W. Jackson<br />\n	1st&nbsp\;Congressional District&nbsp\;Congress:<br />\n	Congressman Robert J. &quot\;Rob&quot\;&nbsp\;Wittman<br />\n	Edwin Santana\, Jr. - Confirmed<br />\n	John Suddarth<br />\n	Vangie Williams<br />\n	&#8203\;7th&nbsp\;Congressional District:<br />\n	Congressman Dave Brat<br />\n	Abigail Spanberger<br />\n	Dan Ward<br />\n	<br />\n	<br />\n	&nbsp\;</p>\n\n	<p style="box-sizing: border-box\; margin: 0px 0px 10px\; font-size: 1rem\;"><span style="box-sizing: border-box\; font-weight: 700\;">What:&nbsp\;</span>&nbsp\;An all-American political rally that celebrates the electoral process in a fun\, informal\, multi-partisan setting.&nbsp\; Enjoy food\, straw pole voting and meet and mingle with local business leaders\, elected officials\, candidates and constituents.<br />\n	&nbsp\;</p>\n\n	<p style="box-sizing: border-box\; margin: 0px 0px 10px\; font-size: 1rem\;">&nbsp\;</p>\n\n	<p style="box-sizing: border-box\; margin: 0px 0px 10px\; font-size: 1rem\;">&nbsp\;</p>\n\n	<p style="box-sizing: border-box\; margin: 0px 0px 10px\; font-size: 1rem\;"><span style="box-sizing: border-box\; font-weight: 700\;">Why:&nbsp\;&nbsp\;</span>The event provides a great opportunity for candidates to campaign to a regional audience and for voters to meet them personally.&nbsp\; Attendees will have the opportunity to discuss current issues one-on-one with candidates and elected officials. This event is unique among other political rallies in the Top of Virginia region as it is the only one that includes all political parties and candidates.<br />\n	<br />\n	Sponsorships available.</p>\n\n	<p style="box-sizing: border-box\; margin: 0px 0px 10px\; font-size: 1rem\;">&nbsp\;</p>\n	</div>\n	</li>\n</ul>\n
LOCATION:The Inn at the Old Silk Mill
UID:e.492.7629
SEQUENCE:3
DTSTAMP:20260420T135858Z
URL:https://members.fredericksburgchamber.org/events/details/hobnob-politics-and-polling-7629
END:VEVENT

END:VCALENDAR
