BEGIN:VCALENDAR
VERSION:2.0
PRODID:-//ChamberMaster//Event Calendar 2.0//EN
METHOD:PUBLISH
X-PUBLISHED-TTL:P3D
REFRESH-INTERVAL:P3D
CALSCALE:GREGORIAN
BEGIN:VEVENT
DTSTART:20220806T140000Z
DTEND:20220806T150000Z
X-MICROSOFT-CDO-ALLDAYEVENT:FALSE
SUMMARY:Hola Germanna – Virtual ESL Information Session
DESCRIPTION:S bado 6 de Agosto   10 a.m.\n\nSesi n de informaci n de ESL\n\nAsiste en l nea a trav s de Zoom\n\n \n\nGermanna Community College puede ayudarte a mejorar tus habilidades en el idioma ingl s y prepararte para comenzar o continuar tu educaci n en un campo profesional de alta demanda.  nete a nosotros para aprender m s sobre Germanna\, nuestras clases y programas\, formas de ahorrar en tu educaci n y c mo comenzar.\n\n \n\nLa sesi n informativa se ofrecer  en espa ol. Se anima a las familias y amigos a que asistan.\n\n \n\nC mo Asistir\n\nAsiste en l nea desde cualquier lugar. Es necesario registrarse para esta sesi n.\n\n \n\nREG STRESE PARA ASISTIR\n\nEl enlace de zoom se proporcionar  despu s del registro para esta sesi n.
X-ALT-DESC;FMTTYPE=text/html:<strong><span style="color:#002A3A">S&aacute\;bado 6 de Agosto &bull\; 10 a.m.</span></strong><br />\n<strong><span style="color:#002A3A">Sesi&oacute\;n de informaci&oacute\;n de ESL</span></strong><br />\n<strong><span style="color:#002A3A">Asiste en l&iacute\;nea a trav&eacute\;s de Zoom</span></strong><br />\n&nbsp\;<br />\n<span style="color:black">Germanna Community College puede ayudarte a mejorar tus habilidades en el idioma ingl&eacute\;s y prepararte para comenzar o continuar tu educaci&oacute\;n en un campo profesional de alta demanda. &Uacute\;nete a nosotros para aprender m&aacute\;s sobre Germanna\, nuestras clases y programas\, formas de ahorrar en tu educaci&oacute\;n y c&oacute\;mo comenzar.</span><br />\n&nbsp\;<br />\n<span style="color:black">La sesi&oacute\;n informativa se ofrecer&aacute\; en espa&ntilde\;ol. Se anima a las familias y amigos a que asistan.</span><br />\n&nbsp\;<br />\n<strong><span style="color:black">C&oacute\;mo Asistir</span></strong><br />\n<span style="color:black">Asiste en l&iacute\;nea desde cualquier lugar. Es necesario registrarse para esta sesi&oacute\;n.</span><br />\n&nbsp\;<br />\n<span style="color:blue">REG&Iacute\;STRESE PARA ASISTIR</span><br />\n<span style="color:black">El enlace de zoom se proporcionar&aacute\; despu&eacute\;s del registro para esta sesi&oacute\;n.</span>
LOCATION:Virtual event.
UID:e.492.13057
SEQUENCE:3
DTSTAMP:20260424T081802Z
URL:https://members.fredericksburgchamber.org/events/details/hola-germanna-virtual-esl-information-session-13057
END:VEVENT

END:VCALENDAR
