BEGIN:VCALENDAR
VERSION:2.0
PRODID:-//ChamberMaster//Event Calendar 2.0//EN
METHOD:PUBLISH
X-PUBLISHED-TTL:P3D
REFRESH-INTERVAL:P3D
CALSCALE:GREGORIAN
BEGIN:VEVENT
DTSTART:20241206T140000Z
DTEND:20241208T210000Z
X-MICROSOFT-CDO-ALLDAYEVENT:FALSE
SUMMARY:Holiday Craft Show
DESCRIPTION:Immerse yourself in the spirit of the season at the much-anticipated Fredericksburg Holiday Craft Show\, showcasing an impressive collection of over 350 vendors from across the region. This festive event promises a one-of-a-kind shopping experience\, perfect for finding unique gifts\, dazzling holiday decorations\, and artisanal goods. As you wander through the aisles of booths\, you'll discover an array of handcrafted jewelry\, home d cor\, gourmet foods\, and much more\, all created with care and passion by skilled crafters.\n\n \n\nWhether you're searching for the perfect gift\, looking to add a touch of holiday magic to your home\, or simply wish to enjoy a festive day out with family and friends\, the Holiday Craft Show is the place to be. Mark your calendars and join us for an unforgettable journey through the best of holiday crafts and cheer. Get ready to be inspired\, delighted\, and filled with the holiday spirit!
X-ALT-DESC;FMTTYPE=text/html:<div>Immerse yourself in the spirit of the season at the much-anticipated Fredericksburg Holiday Craft Show\, showcasing an impressive collection of over 350 vendors from across the region. This festive event promises a one-of-a-kind shopping experience\, perfect for finding unique gifts\, dazzling holiday decorations\, and artisanal goods. As you wander through the aisles of booths\, you&rsquo\;ll discover an array of handcrafted jewelry\, home d&eacute\;cor\, gourmet foods\, and much more\, all created with care and passion by skilled crafters.<br />\n&nbsp\;</div>\n\n<div>Whether you&rsquo\;re searching for the perfect gift\, looking to add a touch of holiday magic to your home\, or simply wish to enjoy a festive day out with family and friends\, the Holiday Craft Show is the place to be. Mark your calendars and join us for an unforgettable journey through the best of holiday crafts and cheer. Get ready to be inspired\, delighted\, and filled with the holiday spirit!</div>\n
LOCATION:Fredericksburg Convention Center 2371 Carl D Silver Parkway Fredericksburg VA 22401
UID:e.492.14248
SEQUENCE:3
DTSTAMP:20260424T143531Z
URL:https://members.fredericksburgchamber.org/events/details/holiday-craft-show-14248
END:VEVENT

END:VCALENDAR
