BEGIN:VCALENDAR
VERSION:2.0
PRODID:-//ChamberMaster//Event Calendar 2.0//EN
METHOD:PUBLISH
X-PUBLISHED-TTL:P3D
REFRESH-INTERVAL:P3D
CALSCALE:GREGORIAN
BEGIN:VEVENT
DTSTART;VALUE=DATE:20251115
DTEND;VALUE=DATE:20251117
TRANSP:TRANSPARENT
X-MICROSOFT-CDO-ALLDAYEVENT:TRUE
SUMMARY:Holiday Open House Weekend in Downtown Fredericksburg
DESCRIPTION:Fredericksburg Main Street and the Department of Economic Development & Tourism invite you to one of Fredericksburg's most magical traditions! For two festive days\, downtown shops and restaurants will open their doors with holiday cheer\, special offerings\, unique finds\, and a fun-filled Tree Lighting Ceremony!\n\n \n\nWeekend Highlights:\n\n\n	Shop local at charming boutiques + find one-of-a-kind holiday gifts\n	Join us for the annual Tree Lighting Ceremony in Riverfront Park at 4:00 pm\n	Stroll the streets as downtown sparkles with holiday lights\n	Take part in the Window Wonderland Riddle Contest for a chance to win prizes\n\n\nBring your friends\, family\, and holiday spirit - Our annual Holiday Open House is the perfect way to start the season in downtown Fredericksburg. \n\n\n\nStay tuned for participating shops\, event times\, and more!
X-ALT-DESC;FMTTYPE=text/html:<div><strong>Fredericksburg Main Street and the Department of Economic Development &amp\; Tourism invite you to one of Fredericksburg&rsquo\;s most magical traditions! </strong>For two festive days\, downtown shops and restaurants will open their doors with holiday cheer\, special offerings\, unique finds\, and a fun-filled Tree Lighting Ceremony!<br />\n&nbsp\;</div>\n\n<div><strong>Weekend Highlights:</strong></div>\n\n<ul>\n	<li>Shop local at charming boutiques + find one-of-a-kind holiday gifts</li>\n	<li>Join us for the annual Tree Lighting Ceremony in Riverfront Park at 4:00 pm</li>\n	<li>Stroll the streets as downtown sparkles with holiday lights</li>\n	<li>Take part in the Window Wonderland Riddle Contest for a chance to win prizes</li>\n</ul>\n\n<div>Bring your friends\, family\, and holiday spirit - Our annual Holiday Open House is the perfect way to start the season in downtown Fredericksburg.&nbsp\;<br />\n<br />\nStay tuned for participating shops\, event times\, and more!&nbsp\;</div>\n
LOCATION:Holiday Open House & Window Wonderland: Downtown Fredericksburg Shops Tree Lighting Ceremony: Riverfront Park - 701 Sophia St\, Fredericksburg\, VA 22401
UID:e.492.15086
SEQUENCE:3
DTSTAMP:20260421T180425Z
URL:https://members.fredericksburgchamber.org/events/details/holiday-open-house-weekend-in-downtown-fredericksburg-15086
END:VEVENT

END:VCALENDAR
