BEGIN:VCALENDAR
VERSION:2.0
PRODID:-//ChamberMaster//Event Calendar 2.0//EN
METHOD:PUBLISH
X-PUBLISHED-TTL:P3D
REFRESH-INTERVAL:P3D
CALSCALE:GREGORIAN
BEGIN:VEVENT
DTSTART:20221215T220000Z
DTEND:20221216T010000Z
X-MICROSOFT-CDO-ALLDAYEVENT:FALSE
SUMMARY:Holiday Takeover Extravaganza! Hardywood! Santa Photos for All! SPCA Giving Tree!
DESCRIPTION:Yes\, It's true! Santa is coming to Hardywood at Mellow Mushroom tap takeover. One the littles and adults don't want to miss. As you kick back with a glass of Gingerbread Stout make sure to tell him if you have been naughty or nice and grab your free photo with him. Our enclosed patio is pet friendly. Bring a donation of dog or cat food for the Fredericksburg SPCA and snap a Santa picture with your pet for the holiday. Mellow Mushroom is an official Giving Tree donation location for the SPCA. This is one you don't want to miss!
X-ALT-DESC;FMTTYPE=text/html:Yes\, It&#39\;s true! Santa is coming to Hardywood at Mellow Mushroom tap takeover. One the littles and adults don&#39\;t want to miss. As you kick back with a glass of Gingerbread Stout make sure to tell him if you have been naughty or nice and grab your free photo with him. Our enclosed patio is pet friendly. Bring a donation of dog or cat food for the Fredericksburg SPCA and snap a Santa picture with your pet for the holiday. Mellow Mushroom is an official Giving Tree donation location for the SPCA. This is one you don&#39\;t want to miss!
LOCATION:Mellow Mushroom 609 William St
UID:e.492.13198
SEQUENCE:3
DTSTAMP:20260422T152232Z
URL:https://members.fredericksburgchamber.org/events/details/holiday-takeover-extravaganza-hardywood-santa-photos-for-all-spca-giving-tree-13198
END:VEVENT

END:VCALENDAR
