BEGIN:VCALENDAR
VERSION:2.0
PRODID:-//ChamberMaster//Event Calendar 2.0//EN
METHOD:PUBLISH
X-PUBLISHED-TTL:P3D
REFRESH-INTERVAL:P3D
CALSCALE:GREGORIAN
BEGIN:VEVENT
DTSTART:20220801T130000Z
DTEND:20220801T193000Z
X-MICROSOFT-CDO-ALLDAYEVENT:FALSE
SUMMARY:Homebuyer Workshop
DESCRIPTION:Virginia Housing's FREE First-time Homebuyer Class. Come learn about the entire homebuying process from start to finish\, as well as the responsibilities of homeownership.
X-ALT-DESC;FMTTYPE=text/html:Virginia Housing&rsquo\;s FREE First-time Homebuyer Class. Come learn about the entire homebuying process from start to finish\, as well as the responsibilities of homeownership.
LOCATION:1320 Central Park Blvd Suite 201 Fredericksburg\, VA 22401
UID:e.492.12897
SEQUENCE:3
DTSTAMP:20260422T225338Z
URL:https://members.fredericksburgchamber.org/events/details/homebuyer-workshop-08-01-2022-12897
END:VEVENT

END:VCALENDAR
