BEGIN:VCALENDAR
VERSION:2.0
PRODID:-//ChamberMaster//Event Calendar 2.0//EN
METHOD:PUBLISH
X-PUBLISHED-TTL:P3D
REFRESH-INTERVAL:P3D
CALSCALE:GREGORIAN
BEGIN:VEVENT
DTSTART:20221001T130000Z
DTEND:20221001T193000Z
X-MICROSOFT-CDO-ALLDAYEVENT:FALSE
SUMMARY:Homebuyer Workshop
DESCRIPTION:Are you thinking about buying a home\, but not sure where to start? Attend a free class to learn about the buying process and how to prepare for homeownership. Faith Housing Coalition facilitates classes throughout the year. Please register for the class at virginiahousing.com/freeclass.
X-ALT-DESC;FMTTYPE=text/html:Are you thinking about buying a home\, but not sure where to start? Attend a free class to learn about the buying process and how to prepare for homeownership. Faith Housing Coalition facilitates classes throughout the year. Please register for the class at virginiahousing.com/freeclass.
LOCATION:Central Rappahannock Regional Library - Salem Church Branch 2607 Salem Church Rd. Fredericksburg\, Va. 22407
UID:e.492.13127
SEQUENCE:3
DTSTAMP:20260422T181059Z
URL:https://members.fredericksburgchamber.org/events/details/homebuyer-workshop-10-01-2022-13127
END:VEVENT

END:VCALENDAR
