BEGIN:VCALENDAR
VERSION:2.0
PRODID:-//ChamberMaster//Event Calendar 2.0//EN
METHOD:PUBLISH
X-PUBLISHED-TTL:P3D
REFRESH-INTERVAL:P3D
CALSCALE:GREGORIAN
BEGIN:VEVENT
DTSTART:20231106T140000Z
DTEND:20231106T203000Z
X-MICROSOFT-CDO-ALLDAYEVENT:FALSE
SUMMARY:Homebuyer Workshop
DESCRIPTION:Are you thinking about buying a home\, but not sure where to start\, or if you're ready financially? Virginia Housing's free First-time Homebuyer Class can help. You'll learn the entire homebuying process from start to finish\, and how to stay on track as a responsible homeowner.
X-ALT-DESC;FMTTYPE=text/html:Are you thinking about buying a home\, but not sure where to start\, or if you&#39\;re ready financially? Virginia Housing&#39\;s free First-time Homebuyer Class can help. You&#39\;ll learn the entire homebuying process from start to finish\, and how to stay on track as a responsible homeowner.
LOCATION:C & F Mortgage 1320 Central Park Blvd. Ste.#201\, Fredericksburg\, Va.22401
UID:e.492.13739
SEQUENCE:3
DTSTAMP:20260421T220201Z
URL:https://members.fredericksburgchamber.org/events/details/homebuyer-workshop-11-06-2023-13739
END:VEVENT

END:VCALENDAR
