BEGIN:VCALENDAR
VERSION:2.0
PRODID:-//ChamberMaster//Event Calendar 2.0//EN
METHOD:PUBLISH
X-PUBLISHED-TTL:P3D
REFRESH-INTERVAL:P3D
CALSCALE:GREGORIAN
BEGIN:VEVENT
DTSTART:20250628T140000Z
DTEND:20250628T170000Z
X-MICROSOFT-CDO-ALLDAYEVENT:FALSE
SUMMARY:Housing Expo
DESCRIPTION:Join us for an exciting day filled with valuable resources\, fun activities\, and community support!\n\nFree Giveaways & Exciting Prizes\n\nLive Food Demonstration by Virginia Cooperative Extension\n\nFree Food Distribution by Fredericksburg Regional Food Bank\n\nLearn from housing experts\, connect with community partners\, and discover opportunities for renters\, buyers\, and homeowners.\n\nDon't miss this empowering event   bring your family\, friends\, and neighbors!
X-ALT-DESC;FMTTYPE=text/html:Join us for an exciting day filled with valuable resources\, fun activities\, and community support!<br />\n<strong>Free Giveaways &amp\; Exciting Prizes</strong><br />\n<strong>Live Food Demonstration</strong> by Virginia Cooperative Extension<br />\n<strong>Free Food Distribution</strong> by Fredericksburg Regional Food Bank<br />\nLearn from housing experts\, connect with community partners\, and discover opportunities for renters\, buyers\, and homeowners.<br />\nDon&rsquo\;t miss this empowering event &mdash\; bring your family\, friends\, and neighbors!<br />\n&nbsp\;
LOCATION:James Monroe High School 2300 Washington Avenue Fredericksburg\, Virginia 22401
UID:e.492.14859
SEQUENCE:3
DTSTAMP:20260423T084632Z
URL:https://members.fredericksburgchamber.org/events/details/housing-expo-14859
END:VEVENT

END:VCALENDAR
