BEGIN:VCALENDAR
VERSION:2.0
PRODID:-//ChamberMaster//Event Calendar 2.0//EN
METHOD:PUBLISH
X-PUBLISHED-TTL:P3D
REFRESH-INTERVAL:P3D
CALSCALE:GREGORIAN
BEGIN:VEVENT
DTSTART;VALUE=DATE:20250728
DTEND;VALUE=DATE:20250802
TRANSP:TRANSPARENT
X-MICROSOFT-CDO-ALLDAYEVENT:TRUE
SUMMARY:Innovation Station – Invent the Future Camp July 28 - August 1
DESCRIPTION:STEM Careers & Innovation\n\n \n\nWhat problems will tomorrow's inventors solve? This future-focused session encourages kids to brainstorm and prototype creative tech solutions using SPIKE and BricQ. Projects include building a space rover\, recycling robot\, or dream invention!
X-ALT-DESC;FMTTYPE=text/html:<div>\n<div>\n<div>STEM Careers &amp\; Innovation</div>\n\n<div>&nbsp\;</div>\n\n<div>What problems will tomorrow&rsquo\;s inventors solve?&nbsp\;This future-focused session encourages kids to&nbsp\;brainstorm and prototype creative tech solutions&nbsp\;using SPIKE and BricQ. Projects include building a&nbsp\;space rover\, recycling robot\, or dream invention!</div>\n</div>\n</div>\n\n<div>\n<div>\n<div>&nbsp\;</div>\n</div>\n\n<div style="text-align:center">&nbsp\;</div>\n</div>\n
LOCATION:1010 Corporate Drive\, Suite 103 Stafford\, VA 22554
UID:e.492.14934
SEQUENCE:3
DTSTAMP:20260421T225833Z
URL:https://members.fredericksburgchamber.org/events/details/innovation-station-invent-the-future-camp-july-28-august-1-14934
END:VEVENT

END:VCALENDAR
