BEGIN:VCALENDAR
VERSION:2.0
PRODID:-//ChamberMaster//Event Calendar 2.0//EN
METHOD:PUBLISH
X-PUBLISHED-TTL:P3D
REFRESH-INTERVAL:P3D
CALSCALE:GREGORIAN
BEGIN:VEVENT
DTSTART:20240503T210000Z
DTEND:20240504T000000Z
X-MICROSOFT-CDO-ALLDAYEVENT:FALSE
SUMMARY:Ironclad Bourbon Tasting at Fraser Wood Elements
DESCRIPTION:In collaboration with Ironclad Distillery and Burg Charcuterie\, Fraser Wood Elements will be hosting a Fredericksburg First Friday event. For just $25\, you'll enjoy a bourbon tasting featuring Ironclad Distillery\, charcuterie from Burg Charcuterie\, and a Fraser Made Smoker Turret to take home. To get into the event\, you must purchase your ticket in advance and online or in store at the register.
X-ALT-DESC;FMTTYPE=text/html:In collaboration with Ironclad Distillery and Burg Charcuterie\, Fraser Wood Elements will be hosting a Fredericksburg First Friday event. For just $25\, you&#39\;ll enjoy a bourbon tasting featuring Ironclad Distillery\, charcuterie from Burg Charcuterie\, and a Fraser Made Smoker Turret to take home. To get into the event\, you must purchase your ticket in advance and online or in store at the register.&nbsp\;
LOCATION:1023 Caroline St Fredericksburg\, VA 22401
UID:e.492.13968
SEQUENCE:3
DTSTAMP:20260422T070600Z
URL:https://members.fredericksburgchamber.org/events/details/ironclad-bourbon-tasting-at-fraser-wood-elements-13968
END:VEVENT

END:VCALENDAR
