BEGIN:VCALENDAR
VERSION:2.0
PRODID:-//ChamberMaster//Event Calendar 2.0//EN
METHOD:PUBLISH
X-PUBLISHED-TTL:P3D
REFRESH-INTERVAL:P3D
CALSCALE:GREGORIAN
BEGIN:VEVENT
DTSTART:20240415T213000Z
DTEND:20240415T230000Z
X-MICROSOFT-CDO-ALLDAYEVENT:FALSE
SUMMARY:Italy Trip Information/Orientation Meeting
DESCRIPTION:Italy Trip  Informational Meeting
X-ALT-DESC;FMTTYPE=text/html:Italy Trip&nbsp\; Informational Meeting
LOCATION:Fredericksburg Regional Camber of Commerce Canal Suites 1701 Fall Hill Avenue\, Ste.106 Fredericksburg\, VA 22401
UID:e.492.13893
SEQUENCE:3
DTSTAMP:20260422T070820Z
URL:https://members.fredericksburgchamber.org/events/details/italy-trip-information-orientation-meeting-13893
END:VEVENT

END:VCALENDAR
