BEGIN:VCALENDAR
VERSION:2.0
PRODID:-//ChamberMaster//Event Calendar 2.0//EN
METHOD:PUBLISH
X-PUBLISHED-TTL:P3D
REFRESH-INTERVAL:P3D
CALSCALE:GREGORIAN
BEGIN:VEVENT
DTSTART:20230209T173000Z
DTEND:20230209T183000Z
X-MICROSOFT-CDO-ALLDAYEVENT:FALSE
SUMMARY:Jabali Afrika Drum and Dance at Germanna
DESCRIPTION:Jabali Afrika\, a multi-faceted musical and dance group from Kenya\, will perform at Germanna at 12:30 p.m. on February 9 at the Fredericksburg Area Campus in the Student Lounge.\n\n \n\nThe event is part of our Black History Month Celebration and is free and open to the public.\n\n \n\nJabali Afrika's three members are accomplished composers\, instrumentalists\, vocalists\, and dancers. The band's origin can be traced back to the Kenya National Theatre Dance Troupe.
X-ALT-DESC;FMTTYPE=text/html:<p><span style="background-color:transparent\; font-family:arial\; font-size:10pt">Jabali Afrika\, a multi-faceted musical and dance group from Kenya\, will perform at Germanna at 12:30 p.m. on February 9 at the Fredericksburg Area Campus in the Student Lounge.</span></p>\n\n<p style="margin-left:72pt"><span style="background-color:transparent\; font-family:arial\; font-size:10pt">&nbsp\;</span></p>\n\n<p><span style="background-color:transparent\; font-family:arial\; font-size:10pt">The event is part of our Black History Month Celebration and is free and open to the public.</span></p>\n\n<p>&nbsp\;</p>\n\n<p><span style="background-color:transparent\; font-family:arial\; font-size:10pt">Jabali Afrika&rsquo\;s three members are accomplished composers\, instrumentalists\, vocalists\, and dancers. The band&rsquo\;s origin can be traced back to the Kenya National Theatre Dance Troupe.&nbsp\;</span></p>\n
LOCATION:In-person Fredericksburg Area Campus\, SP1\, Lounge Or Virtual online
UID:e.492.13411
SEQUENCE:3
DTSTAMP:20260422T115352Z
URL:https://members.fredericksburgchamber.org/events/details/jabali-afrika-drum-and-dance-at-germanna-13411
END:VEVENT

END:VCALENDAR
