BEGIN:VCALENDAR
VERSION:2.0
PRODID:-//ChamberMaster//Event Calendar 2.0//EN
METHOD:PUBLISH
X-PUBLISHED-TTL:P3D
REFRESH-INTERVAL:P3D
CALSCALE:GREGORIAN
BEGIN:VEVENT
DTSTART:20240127T000000Z
DTEND:20240127T013000Z
X-MICROSOFT-CDO-ALLDAYEVENT:FALSE
SUMMARY:JaM Concert Benefitting the Moss Free Clinic
DESCRIPTION:We are thrilled to announce that the spotlight of this month's Jazz on a Mission (JaM) concert will shine brightly on the Moss Free Clinic. JaM\, a musical initiative driven by the passion for jazz\, is a monthly benefit concert series orchestrated by Dr. Matt Little and David Bronston. The duo has seamlessly blended their love for jazz music with a deep commitment to community service\, using their talents to bring attention to local nonprofit organizations. Event Details: Date: Friday\, January 26th Time: 7:00 p.m. Location: Trinity Episcopal Church\, 825 College Ave. Why Attend? Community Connection: JaM is not just a concert\; it's a gathering of neighbors\, friends\, and fellow jazz enthusiasts coming together for a shared experience. Supporting a Worthy Cause: Meet our staff members and learn more about the Moss Mission\, our programs and services\, and the impact we're making on the health and well-being of our community. This is a free event and is open to everyone. Mark your calendars\, invite your friends and family\, and join us for an unforgettable night of jazz and philanthropy!
X-ALT-DESC;FMTTYPE=text/html:We are thrilled to announce that the spotlight of this month&rsquo\;s Jazz on a Mission (JaM) concert will shine brightly on the Moss Free Clinic. JaM\, a musical initiative driven by the passion for jazz\, is a monthly benefit concert series orchestrated by Dr. Matt Little and David Bronston. The duo has seamlessly blended their love for jazz music with a deep commitment to community service\, using their talents to bring attention to local nonprofit organizations. Event Details: Date: Friday\, January 26th Time: 7:00 p.m. Location: Trinity Episcopal Church\, 825 College Ave. Why Attend? Community Connection: JaM is not just a concert\; it&rsquo\;s a gathering of neighbors\, friends\, and fellow jazz enthusiasts coming together for a shared experience. Supporting a Worthy Cause: Meet our staff members and learn more about the Moss Mission\, our programs and services\, and the impact we&rsquo\;re making on the health and well-being of our community. This is a free event and is open to everyone. Mark your calendars\, invite your friends and family\, and join us for an unforgettable night of jazz and philanthropy!
LOCATION:Trinity Church\, 825 College Ave\, Fredericksburg\, VA 22401
UID:e.492.13810
SEQUENCE:3
DTSTAMP:20260422T005359Z
URL:https://members.fredericksburgchamber.org/events/details/jam-concert-benefitting-the-moss-free-clinic-13810
END:VEVENT

END:VCALENDAR
