BEGIN:VCALENDAR
VERSION:2.0
PRODID:-//ChamberMaster//Event Calendar 2.0//EN
METHOD:PUBLISH
X-PUBLISHED-TTL:P3D
REFRESH-INTERVAL:P3D
CALSCALE:GREGORIAN
BEGIN:VEVENT
DTSTART:20240127T000000Z
DTEND:20240127T013000Z
X-MICROSOFT-CDO-ALLDAYEVENT:FALSE
SUMMARY:JaM Concert Series
DESCRIPTION:A free monthly jazz concert series intended to increase visibility and raise awareness of local non-profit organizations.
X-ALT-DESC;FMTTYPE=text/html:A free monthly jazz concert series intended to increase visibility and raise awareness of local non-profit organizations.
LOCATION:Trinity Episcopal Church 825 College Avenue Fredericksburg\, VA 22401 ?
UID:e.492.13812
SEQUENCE:3
DTSTAMP:20260422T005048Z
URL:https://members.fredericksburgchamber.org/events/details/jam-concert-series-01-26-2024-13812
END:VEVENT

END:VCALENDAR
