BEGIN:VCALENDAR
VERSION:2.0
PRODID:-//ChamberMaster//Event Calendar 2.0//EN
METHOD:PUBLISH
X-PUBLISHED-TTL:P3D
REFRESH-INTERVAL:P3D
CALSCALE:GREGORIAN
BEGIN:VEVENT
DTSTART;VALUE=DATE:20250417
DTEND;VALUE=DATE:20250418
TRANSP:TRANSPARENT
X-MICROSOFT-CDO-ALLDAYEVENT:TRUE
SUMMARY:Jesus Christ Superstar
DESCRIPTION:What's the buzz?\n\nThe first musical by Andrew Lloyd Webber and Tim Rice to be produced for the professional stage\, Jesus Christ Superstar has wowed audiences for over 50 years. A timeless work\, the rock opera is set against the backdrop of an extraordinary and universally known series of events but seen\, unusually\, through the eyes of Judas Iscariot. Loosely based on the Gospels of Matthew\,Mark\, Luke and John\, Superstar follows the last week of Jesus Christ's life. The story\, told entirely through song\, explores the personal relationships and struggles between Jesus\, Judas\, Mary Magdalene\, his disciples\, his followers and the Roman Empire.\n\nThe iconic 1970s rock score contains such well-known numbers as "Superstar\," "I Don't Know How to Love Him" and "Gethsemane." Witness the electrifying story of love\, betrayal\, and redemption as it's never been told before.\n\nWednesday Matinees\n\n11:30am-12:45pm: Meal Service\n\n12:45pm: Show Only Arrival\n\n1:30pm: Performance Start\n\nThurs. - Sat. Evenings\n\n5:30pm-6:45pm: Meal Service & Appetizers\n\n6:45pm: Show Only Arrival\n\n7:30pm: Performance Start\n\nSunday Matinees\n\n1:00pm-2:15pm: Meal Service & Appetizers\n\n2:15pm: Show Only Arrival\n\n3:00pm: Performance Start
X-ALT-DESC;FMTTYPE=text/html:What&rsquo\;s the buzz?<br />\nThe first musical by Andrew Lloyd Webber and Tim Rice to be produced for the professional stage\, Jesus Christ Superstar has wowed audiences for over 50 years. A timeless work\, the rock opera is set against the backdrop of an extraordinary and universally known series of events but seen\, unusually\, through the eyes of Judas Iscariot. Loosely based on the Gospels of Matthew\,Mark\, Luke and John\, Superstar follows the last week of Jesus Christ&rsquo\;s life. The story\, told entirely through song\, explores the personal relationships and struggles between Jesus\, Judas\, Mary Magdalene\, his disciples\, his followers and the Roman Empire.<br />\nThe iconic 1970s rock score contains such well-known numbers as &ldquo\;Superstar\,&rdquo\; &ldquo\;I Don&rsquo\;t Know How to Love Him&rdquo\; and &ldquo\;Gethsemane.&rdquo\; Witness the electrifying story of love\, betrayal\, and redemption as it&rsquo\;s never been told before.<br />\nWednesday Matinees<br />\n11:30am-12:45pm: Meal Service<br />\n12:45pm: Show Only Arrival<br />\n1:30pm: Performance Start<br />\nThurs. - Sat. Evenings<br />\n5:30pm-6:45pm: Meal Service &amp\; Appetizers<br />\n6:45pm: Show Only Arrival<br />\n7:30pm: Performance Start<br />\nSunday Matinees<br />\n1:00pm-2:15pm: Meal Service &amp\; Appetizers<br />\n2:15pm: Show Only Arrival<br />\n3:00pm: Performance Start
LOCATION:95 Riverside Parkway Fredericksburg VA 22406
UID:e.492.14591
SEQUENCE:3
DTSTAMP:20260423T004351Z
URL:https://members.fredericksburgchamber.org/events/details/jesus-christ-superstar-04-17-2025-14591
END:VEVENT

END:VCALENDAR
