BEGIN:VCALENDAR
VERSION:2.0
PRODID:-//ChamberMaster//Event Calendar 2.0//EN
METHOD:PUBLISH
X-PUBLISHED-TTL:P3D
REFRESH-INTERVAL:P3D
CALSCALE:GREGORIAN
BEGIN:VEVENT
DTSTART:20260128T003000Z
DTEND:20260128T013000Z
X-MICROSOFT-CDO-ALLDAYEVENT:FALSE
SUMMARY:John Williams: A Great Lives John and Linda Coker Lecture with Tim Greiving
DESCRIPTION:Tim Greiving speaks at a Great Lives lecture about John Williams: A Composer's Life\, sponsored by John and Linda Coker. The event begins in George Washington Hall's Dodd Auditorium at 7:30 PM\, and doors open at 6:30 PM.
X-ALT-DESC;FMTTYPE=text/html:Tim Greiving speaks at a Great Lives lecture about John Williams: A Composer&rsquo\;s Life\, sponsored by John and Linda Coker. The event begins in George Washington Hall&rsquo\;s Dodd Auditorium at 7:30 PM\, and doors open at 6:30 PM.
LOCATION:1301 College Ave\, Fredericksburg\, VA 22401
UID:e.492.15141
SEQUENCE:3
DTSTAMP:20260421T145237Z
URL:https://members.fredericksburgchamber.org/events/details/john-williams-a-great-lives-john-and-linda-coker-lecture-with-tim-greiving-15141
END:VEVENT

END:VCALENDAR
