BEGIN:VCALENDAR
VERSION:2.0
PRODID:-//ChamberMaster//Event Calendar 2.0//EN
METHOD:PUBLISH
X-PUBLISHED-TTL:P3D
REFRESH-INTERVAL:P3D
CALSCALE:GREGORIAN
BEGIN:VEVENT
DTSTART:20220929T200000Z
DTEND:20220929T230000Z
X-MICROSOFT-CDO-ALLDAYEVENT:FALSE
SUMMARY:Kick-off Event for Day of Giving
DESCRIPTION:Join us for an opportunity to connect with others in the community as we prepare to kick off our Day of Giving with our Friends at Adventure Brewing!
X-ALT-DESC;FMTTYPE=text/html:Join us for an opportunity to connect with others in the community as we prepare to kick off our Day of Giving with our Friends at Adventure Brewing!&nbsp\;
LOCATION:Adventure Brewing at Eagle Village
UID:e.492.13092
SEQUENCE:3
DTSTAMP:20260422T212158Z
URL:https://members.fredericksburgchamber.org/events/details/kick-off-event-for-day-of-giving-13092
END:VEVENT

END:VCALENDAR
