BEGIN:VCALENDAR
VERSION:2.0
PRODID:-//ChamberMaster//Event Calendar 2.0//EN
METHOD:PUBLISH
X-PUBLISHED-TTL:P3D
REFRESH-INTERVAL:P3D
CALSCALE:GREGORIAN
BEGIN:VEVENT
DTSTART:20260507T213000Z
DTEND:20260507T233000Z
X-MICROSOFT-CDO-ALLDAYEVENT:FALSE
SUMMARY:King George EDA Business Appreciation Reception
DESCRIPTION:Join the King George Economic Development Authority Business Appreciation Reception! This is our annual event where we the King George business communnity comes toghether and we give you updates on the business environment in King George\, the EDA\, and hand out the KG Best of The Best Awards! Please register and save your spot now. Dinner and drinks are included. Want your business featured at this event? Email Trey about sponsorship\, thenderson@co.kinggeorge.state.va.us for more. Venue to be announced soon. Save the date! Thurs.May 7 5:30 to 7:30 PM Creekside Brewery 15492 Creekside Ln Sponsorships Available
X-ALT-DESC;FMTTYPE=text/html:Join the King George Economic Development Authority Business Appreciation Reception! This is our annual event where we the King George business communnity comes toghether and we give you updates on the business environment in King George\, the EDA\, and hand out the KG Best of The Best Awards! Please register and save your spot now. Dinner and drinks are included. Want your business featured at this event? Email Trey about sponsorship\, thenderson@co.kinggeorge.state.va.us for more. Venue to be announced soon. Save the date! Thurs.May 7 5:30 to 7:30 PM Creekside Brewery 15492 Creekside Ln Sponsorships Available
LOCATION:Creekside Brewery 15492 Creekside Ln
UID:e.492.15206
SEQUENCE:3
DTSTAMP:20260421T144803Z
URL:https://members.fredericksburgchamber.org/events/details/king-george-eda-business-appreciation-reception-15206
END:VEVENT

END:VCALENDAR
