BEGIN:VCALENDAR
VERSION:2.0
PRODID:-//ChamberMaster//Event Calendar 2.0//EN
METHOD:PUBLISH
X-PUBLISHED-TTL:P3D
REFRESH-INTERVAL:P3D
CALSCALE:GREGORIAN
BEGIN:VEVENT
DTSTART:20230131T230000Z
DTEND:20230201T010000Z
X-MICROSOFT-CDO-ALLDAYEVENT:FALSE
SUMMARY:Kinglet Solar Community Open House
DESCRIPTION:Please join us for a community open house to discuss the Kinglet Solar project\, a proposed solar farm located along Truslow Road east of I-95. All interested community members are invited to drop in to learn more about the project\, offer feedback\, and have questions answered by the Cypress Creek Renewables team! For more information about Kinglet Solar\, please contact us at 804-762-6838 or va-dg@ccrenew.com. To learn more about Cypress Creek Renewables\, please visit ccrenew.com.
X-ALT-DESC;FMTTYPE=text/html:Please join us for a community open house to discuss the Kinglet Solar project\, a proposed solar farm located along Truslow Road east of I-95. All interested community members are invited to drop in to learn more about the project\, offer feedback\, and have questions answered by the Cypress Creek Renewables team! For more information about Kinglet Solar\, please contact us at 804-762-6838 or va-dg@ccrenew.com. To learn more about Cypress Creek Renewables\, please visit ccrenew.com.
LOCATION:Howell Branch - Central Rappahannock Regional Library\, Meeting Room 1
UID:e.492.13388
SEQUENCE:3
DTSTAMP:20260422T134101Z
URL:https://members.fredericksburgchamber.org/events/details/kinglet-solar-community-open-house-13388
END:VEVENT

END:VCALENDAR
