BEGIN:VCALENDAR
VERSION:2.0
PRODID:-//ChamberMaster//Event Calendar 2.0//EN
METHOD:PUBLISH
X-PUBLISHED-TTL:P3D
REFRESH-INTERVAL:P3D
CALSCALE:GREGORIAN
BEGIN:VEVENT
DTSTART:20221001T150000Z
DTEND:20221001T210000Z
X-MICROSOFT-CDO-ALLDAYEVENT:FALSE
SUMMARY:La Rumba Latinx Festival
DESCRIPTION:La Rumba Latinx Festival is one of the only events in the greater Fredericksburg area celebrating Latin American culture while also providing resources to the Latin American community. Come and join us for a day filled with fun\, music\, kids activities\, resources\, health screenings\, raffles\, and so much more! La Rumba Latinx Festival es uno de los  nicos eventos en el  rea metropolitana de Fredericksburg que celebra la cultura latinoamericana y al mismo tiempo brinda recursos a la comunidad latinoamericana.  Ven y  nete a nosotros para un d a lleno de diversi n\, m sica\, actividades para ni os\, recursos\, ex menes de salud\, rifas y mucho m s!
X-ALT-DESC;FMTTYPE=text/html:La Rumba Latinx Festival is one of the only events in the greater Fredericksburg area celebrating Latin American culture while also providing resources to the Latin American community. Come and join us for a day filled with fun\, music\, kids activities\, resources\, health screenings\, raffles\, and so much more! La Rumba Latinx Festival es uno de los &uacute\;nicos eventos en el &aacute\;rea metropolitana de Fredericksburg que celebra la cultura latinoamericana y al mismo tiempo brinda recursos a la comunidad latinoamericana. &iexcl\;Ven y &uacute\;nete a nosotros para un d&iacute\;a lleno de diversi&oacute\;n\, m&uacute\;sica\, actividades para ni&ntilde\;os\, recursos\, ex&aacute\;menes de salud\, rifas y mucho m&aacute\;s!
LOCATION:Old Mill Park Fredericksburg\, VA 22401
UID:e.492.12868
SEQUENCE:3
DTSTAMP:20260422T194450Z
URL:https://members.fredericksburgchamber.org/events/details/la-rumba-latinx-festival-10-01-2022-12868
END:VEVENT

END:VCALENDAR
