BEGIN:VCALENDAR
VERSION:2.0
PRODID:-//ChamberMaster//Event Calendar 2.0//EN
METHOD:PUBLISH
X-PUBLISHED-TTL:P3D
REFRESH-INTERVAL:P3D
CALSCALE:GREGORIAN
BEGIN:VEVENT
DTSTART:20240301T223000Z
DTEND:20240302T000000Z
X-MICROSOFT-CDO-ALLDAYEVENT:FALSE
SUMMARY:Lafayette's World Exhibit Opening
DESCRIPTION:Lafayette's World Exhibit Opening Friday\, March 1\, 2024 5:30   7 p.m. Join the Fredericksburg Area Museum for a reception celebrating the opening of the special exhibition\, Lafayette's World: Revolutionary Ideals and the Limits of Freedom. Light refreshments will be provided\, free and open to the public.
X-ALT-DESC;FMTTYPE=text/html:Lafayette&rsquo\;s World Exhibit Opening Friday\, March 1\, 2024 5:30 &ndash\; 7 p.m. Join the Fredericksburg Area Museum for a reception celebrating the opening of the special exhibition\, Lafayette&rsquo\;s World: Revolutionary Ideals and the Limits of Freedom. Light refreshments will be provided\, free and open to the public.
LOCATION:Fredericksburg Area Museum 907 Princess Anne St Fredericksburg\, VA 22401
UID:e.492.13887
SEQUENCE:3
DTSTAMP:20260422T035601Z
URL:https://members.fredericksburgchamber.org/events/details/lafayette-s-world-exhibit-opening-13887
END:VEVENT

END:VCALENDAR
