BEGIN:VCALENDAR
VERSION:2.0
PRODID:-//ChamberMaster//Event Calendar 2.0//EN
METHOD:PUBLISH
X-PUBLISHED-TTL:P3D
REFRESH-INTERVAL:P3D
CALSCALE:GREGORIAN
BEGIN:VEVENT
DTSTART:20260515T190000Z
DTEND:20260515T210000Z
X-MICROSOFT-CDO-ALLDAYEVENT:FALSE
SUMMARY:Leadership Fredericksburg Graduation Ceremony
DESCRIPTION:
X-ALT-DESC;FMTTYPE=text/html:<div style="text-align: center\;">&nbsp\;</div>\n\n<div>\n<p align="center" class="MsoNormal" style="margin: 0in 0in 0pt\; text-align: center">&nbsp\;</p>\n\n<p align="center" class="MsoNormal" style="margin: 0in 0in 0pt\; text-align: center">&nbsp\;</p>\n\n<p align="center" class="MsoNormal" style="margin: 0in 0in 0pt\; text-align: center">&nbsp\;</p>\n\n<p align="center" class="MsoNormal" style="margin: 0in 0in 0pt\; text-align: center"><span style="font-family: Garamond"><font size="3">&nbsp\;</font></span></p>\n\n<p align="center" class="MsoNormal" style="margin: 0in 0in 0pt\; text-align: center"><span style="font-size: 11pt\; color: blue\; font-family: Garamond">&nbsp\;</span></p>\n\n<p align="center" class="MsoNormal" style="margin: 0in 0in 0pt\; text-align: center"><span style="color: blue\; font-family: Garamond"><font size="3">&nbsp\;</font></span></p>\n\n<p align="center" class="MsoNormal" style="margin: 0in 0in 0pt\; text-align: center">&nbsp\;</p>\n\n<p align="center" class="MsoNormal" style="margin: 0in 0in 0pt\; text-align: center">&nbsp\;</p>\n</div>\n\n<div>&nbsp\;</div>\n\n<div>&nbsp\;</div>\n\n<div>&nbsp\;</div>\n\n<div>&nbsp\;</div>\n\n<div>&nbsp\;</div>\n\n<div>&nbsp\;</div>\n\n<div>&nbsp\;</div>\n\n<div>&nbsp\;</div>\n
LOCATION:
UID:e.492.14832
SEQUENCE:3
DTSTAMP:20260421T144837Z
URL:https://members.fredericksburgchamber.org/events/details/leadership-fredericksburg-graduation-ceremony-14832
END:VEVENT

END:VCALENDAR
