BEGIN:VCALENDAR
VERSION:2.0
PRODID:-//ChamberMaster//Event Calendar 2.0//EN
METHOD:PUBLISH
X-PUBLISHED-TTL:P3D
REFRESH-INTERVAL:P3D
CALSCALE:GREGORIAN
BEGIN:VEVENT
DTSTART:20260528T133000Z
DTEND:20260528T150000Z
X-MICROSOFT-CDO-ALLDAYEVENT:FALSE
SUMMARY:Leadership Fredericksburg Information Session
DESCRIPTION:Leadership Fredericksburg is about to embark on its 20th year. We are now accepting applications through July 1st.  If you've been thinking about applying\, come to this session to learn the ins and outs of the Fredericksburg region's premier leadership development program. This open session will include an opportunity to speak directly to a panel.\n\n\n\nPanelists will include Program Leaders from the Faculty\, Mentors and Alumni.\n\n\n\nCan't make the session\, but still interested in learning more or applying? Visit Leadership Fredericksburg to learn more about Leadership Fredericksburg and apply or contact Carley Walker at 540-373-9508 or cwalker@fxbgchamber.org.
X-ALT-DESC;FMTTYPE=text/html:<div><span style="font-size:14px\;">Leadership Fredericksburg is about to embark on its 20th year. We are now accepting applications through July 1st.&nbsp\;&nbsp\;If you&#39\;ve been thinking about applying\, come to this session to learn the ins and outs of the Fredericksburg region&#39\;s premier leadership development program. This open session will include an opportunity to speak directly to a panel.<br />\n<br />\nPanelists will include Program Leaders from the Faculty\, Mentors and Alumni.</span><br />\n<br />\n<span style="font-size:14px\;">Can&#39\;t make the session\, but still interested in learning more or applying? Visit&nbsp\;</span><span style="background:white\;"><span style="color:#333333\;"><span style="font-family:arial\,sans-serif\;"><span style="font-size:10.0pt\;"><a href="https://fredericksburgchamber.org/leadership-fredericksburg/">Leadership Fredericksburg</a>&nbsp\;</span></span></span></span><span style="font-size:14px\;">to learn more about Leadership Fredericksburg and apply or contact Carley Walker&nbsp\;at 540-373-9508 or <a href="mailto:cwalker@fxbgchamber.org?subject=Leadership%20Fredericksburg%20Information%20Session">cwalker@fxbgchamber.org</a>.</span></div>\n
LOCATION:Fredericksburg Regional Chamber of Commerce Board Room 1701 Fall Hill Ave Fredericksburg\, VA 22401
UID:e.492.15366
SEQUENCE:3
DTSTAMP:20260421T143410Z
URL:https://members.fredericksburgchamber.org/events/details/leadership-fredericksburg-information-session-15366
END:VEVENT

END:VCALENDAR
