BEGIN:VCALENDAR
VERSION:2.0
PRODID:-//ChamberMaster//Event Calendar 2.0//EN
METHOD:PUBLISH
X-PUBLISHED-TTL:P3D
REFRESH-INTERVAL:P3D
CALSCALE:GREGORIAN
BEGIN:VEVENT
DTSTART:20220916T203000Z
DTEND:20220916T223000Z
X-MICROSOFT-CDO-ALLDAYEVENT:FALSE
SUMMARY:Leadership Fredericksburg Kickoff Reception
DESCRIPTION:Leadership Fredericksburg is beginning it's Sixteenth Year!\n\n\n\nPlease join the 2023 fellows to help celebrate the beginning of their Leadership journey with a fun kickoff event!\n\n\n\nFor LF Alumni\, Sponsors and Mentors only.
X-ALT-DESC;FMTTYPE=text/html:<div style="text-align: center\;"><strong>Leadership Fredericksburg is beginning it&#39\;s Sixteenth&nbsp\;Year!</strong><br />\n<br />\nPlease join the 2023&nbsp\;fellows to help celebrate the beginning of their Leadership journey with a fun kickoff event!<br />\n<br />\nFor LF Alumni\, Sponsors and Mentors only.&nbsp\;<br />\n<br />\n<br />\n<br />\n&nbsp\;</div>\n
LOCATION:University of Mary Washington Stafford Campus - University Hall 121 University Blvd.\, Fredericksburg\, VA 22406
UID:e.492.13113
SEQUENCE:3
DTSTAMP:20260422T193948Z
URL:https://members.fredericksburgchamber.org/events/details/leadership-fredericksburg-kickoff-reception-13113
END:VEVENT

END:VCALENDAR
