BEGIN:VCALENDAR
VERSION:2.0
PRODID:-//ChamberMaster//Event Calendar 2.0//EN
METHOD:PUBLISH
X-PUBLISHED-TTL:P3D
REFRESH-INTERVAL:P3D
CALSCALE:GREGORIAN
BEGIN:VEVENT
DTSTART:20230511T190000Z
DTEND:20230511T210000Z
X-MICROSOFT-CDO-ALLDAYEVENT:FALSE
SUMMARY:Leadership Fredericksburg Project Presentations
DESCRIPTION:Please join us as we celebrate our 2023 Class of Leadership Fredericksburg. During project presentations\, four teams from the class of 27 Fellows will present the final results of their Community Action Projects for Step VA. \n\n\n\nAll teams have worked on the same project for several months\, and they will compete for a team prize.
X-ALT-DESC;FMTTYPE=text/html:<span style="font-size:14px\;">Please join us as we celebrate our 2023 Class of Leadership Fredericksburg. During project presentations\, four teams from the class of 27 Fellows will present the final results of their Community Action Projects for Step VA.&nbsp\;<br />\n<br />\nAll teams have worked on the same project for several months\, and they will compete for a team prize.&nbsp\;</span>
LOCATION:Germanna Community College Germanna's Fredericksburg Area Campus Workforce & Technology Building 10000 Germanna Point Drive\, Fredericksburg\, Virginia 22408
UID:e.492.13451
SEQUENCE:3
DTSTAMP:20260422T070447Z
URL:https://members.fredericksburgchamber.org/events/details/leadership-fredericksburg-project-presentations-13451
END:VEVENT

END:VCALENDAR
