BEGIN:VCALENDAR
VERSION:2.0
PRODID:-//ChamberMaster//Event Calendar 2.0//EN
METHOD:PUBLISH
X-PUBLISHED-TTL:P3D
REFRESH-INTERVAL:P3D
CALSCALE:GREGORIAN
BEGIN:VEVENT
DTSTART:20251202T170000Z
DTEND:20251202T183000Z
X-MICROSOFT-CDO-ALLDAYEVENT:FALSE
SUMMARY:Leadership Lunch & Learn: How Travel Impacts Leaders
DESCRIPTION:Join Open Horizon Journeys for a professional development Lunch & Learn exploring how travel shapes leadership perspective\, adaptability\, and growth. Led by Christina Driskill\, M.Ed.\, Founder of Open Horizon Journeys\, the session highlights practical ways to translate travel experiences into leadership insight and renewed purpose.\n\nThe event will include guided reflection\, networking with local professionals and mentors\, and a complimentary lunch.\n\nAttendance is limited to 20 participants.\n\nReserve your seat: https://tinyurl.com/pbm8eh47
X-ALT-DESC;FMTTYPE=text/html:<p>Join Open Horizon Journeys for a professional development Lunch &amp\; Learn exploring how travel shapes leadership perspective\, adaptability\, and growth. Led by Christina Driskill\, M.Ed.\, Founder of Open Horizon Journeys\, the session highlights practical ways to translate travel experiences into leadership insight and renewed purpose.</p>\n\n<p>The event will include guided reflection\, networking with local professionals and mentors\, and a complimentary lunch.</p>\n\n<p>Attendance is limited to 20 participants.</p>\n\n<p>Reserve your seat:&nbsp\;<a href="https://tinyurl.com/pbm8eh47" style="color: rgb(17\, 85\, 204)\;" target="_blank">https://tinyurl.com/pbm8eh47</a></p>\n
LOCATION:Fredericksburg Regional Chamber of Commerce Boardroom 1701 Fall Hill Avenue\, Suite 106 Fredericksburg\, VA 22401
UID:e.492.15085
SEQUENCE:3
DTSTAMP:20260421T162029Z
URL:https://members.fredericksburgchamber.org/events/details/leadership-lunch-learn-how-travel-impacts-leaders-15085
END:VEVENT

END:VCALENDAR
