BEGIN:VCALENDAR
VERSION:2.0
PRODID:-//ChamberMaster//Event Calendar 2.0//EN
METHOD:PUBLISH
X-PUBLISHED-TTL:P3D
REFRESH-INTERVAL:P3D
CALSCALE:GREGORIAN
BEGIN:VEVENT
DTSTART:20241113T230000Z
DTEND:20241114T013000Z
X-MICROSOFT-CDO-ALLDAYEVENT:FALSE
SUMMARY:Legacies and Consequences
DESCRIPTION:During James Monroe's presidency\, Congress enacted legislation aimed at promoting education and assimilation of Native American tribes through Indian schools. This event will explore the complexities of 19th-century U.S. policy toward Native Americans\, featuring personal stories and historical accounts about the enduring legacy of Indian boarding schools. Join us for a panel discussion and Q&A to understand how this history continues to impact lives today.
X-ALT-DESC;FMTTYPE=text/html:During James Monroe&#39\;s presidency\, Congress enacted legislation aimed at promoting education and assimilation of Native American tribes through Indian schools. This event will explore the complexities of 19th-century U.S. policy toward Native Americans\, featuring personal stories and historical accounts about the enduring legacy of Indian boarding schools. Join us for a panel discussion and Q&amp\;A to understand how this history continues to impact lives today.
LOCATION:University of Mary Washington Cedric Rucker University Center Chandler Ballroom A & B
UID:e.492.14298
SEQUENCE:3
DTSTAMP:20260424T161646Z
URL:https://members.fredericksburgchamber.org/events/details/legacies-and-consequences-14298
END:VEVENT

END:VCALENDAR
